BEGIN:VCALENDAR
VERSION:2.0
PRODID:-//Swing 46 - ECPv6.15.12//NONSGML v1.0//EN
CALSCALE:GREGORIAN
METHOD:PUBLISH
X-WR-CALNAME:Swing 46
X-ORIGINAL-URL:https://swing46.nyc
X-WR-CALDESC:Events for Swing 46
REFRESH-INTERVAL;VALUE=DURATION:PT1H
X-Robots-Tag:noindex
X-PUBLISHED-TTL:PT1H
BEGIN:VTIMEZONE
TZID:America/New_York
BEGIN:DAYLIGHT
TZOFFSETFROM:-0500
TZOFFSETTO:-0400
TZNAME:EDT
DTSTART:20240310T070000
END:DAYLIGHT
BEGIN:STANDARD
TZOFFSETFROM:-0400
TZOFFSETTO:-0500
TZNAME:EST
DTSTART:20241103T060000
END:STANDARD
BEGIN:DAYLIGHT
TZOFFSETFROM:-0500
TZOFFSETTO:-0400
TZNAME:EDT
DTSTART:20250309T070000
END:DAYLIGHT
BEGIN:STANDARD
TZOFFSETFROM:-0400
TZOFFSETTO:-0500
TZNAME:EST
DTSTART:20251102T060000
END:STANDARD
BEGIN:DAYLIGHT
TZOFFSETFROM:-0500
TZOFFSETTO:-0400
TZNAME:EDT
DTSTART:20260308T070000
END:DAYLIGHT
BEGIN:STANDARD
TZOFFSETFROM:-0400
TZOFFSETTO:-0500
TZNAME:EST
DTSTART:20261101T060000
END:STANDARD
END:VTIMEZONE
BEGIN:VEVENT
DTSTART;TZID=America/New_York:20250705T210000
DTEND;TZID=America/New_York:20250706T010000
DTSTAMP:20260419T093740
CREATED:20250620T232939Z
LAST-MODIFIED:20250620T235505Z
UID:10002882-1751749200-1751763600@swing46.nyc
SUMMARY:Sarah Hayes & Swing Society | SAT
DESCRIPTION:Late Set | Jazz Quartet\n9:00pm – 1:00am: Sarah Hayes and Swing Society. \nSarah Hayes ~ Vocalist and Bandleader\,‭ ‬has been at the forefront of New York’s music scene for the last‭ ‬8‭ ‬years‭~ ‬Performing Jazz and Swinging Standards with numerous bands and orchestras\,‭ ‬lighting up New York’s finest Jazz Clubs with her vibrant voice\,‭ ‬enormous repertoire and sunny personality. Sarah is wowing audiences around the country and internationally.‭ ‬Whether performances at the Montreal Jazz festival\,‭ ‬concerts with Steve Rossi‭ (‬Allen‭ & ‬Rossi‭)‬\,‭ ‬repeat singing engagements for NYC Mayor‭ ‬Michael Bloomberg\,‭ ‬touring the country with‭ ‬The Artie Shaw Orchestra\,‭ (‬A position once held by Billie Holiday‭)‬\,‭ ‬weekly engagements in NYC ~ Sarah brings the party to the party! visit our EventBrite page for tickets if you don’t see the ticket window below.
URL:https://swing46.nyc/event/sat-sarah-hayes-late-jul-5/
LOCATION:Swing 46\, 349 W 46th Street\, New York\, NY\, 10036\, United States
CATEGORIES:Parties,Performances
ATTACH;FMTTYPE=image/jpeg:https://swing46.nyc/wp-content/uploads/2021/12/Swing46-SarahHayes_dancefloor.jpg
END:VEVENT
BEGIN:VEVENT
DTSTART;TZID=America/New_York:20250706T173000
DTEND;TZID=America/New_York:20250706T203000
DTSTAMP:20260419T093740
CREATED:20250628T001215Z
LAST-MODIFIED:20250628T001609Z
UID:10002904-1751823000-1751833800@swing46.nyc
SUMMARY:Amy London | SUN
DESCRIPTION:Early Set | Jazz Quartet\n5:30 – 8:30: AMY LONDON \nAmy London is known and loved in New York City jazz and Broadway circles for her effortless sound\, impeccable musicianship and depth of emotion. Her most recent CD on Motema\, The Royal Bopsters Project\, features a vocal jazz quartet with Ms. London as the leader and soprano.
URL:https://swing46.nyc/event/sun-amy-london-early-jul-6/
LOCATION:Swing 46\, 349 W 46th Street\, New York\, NY\, 10036\, United States
CATEGORIES:Performances
ATTACH;FMTTYPE=image/jpeg:https://swing46.nyc/wp-content/uploads/2022/07/Amy-London-photo.jpg
END:VEVENT
BEGIN:VEVENT
DTSTART;TZID=America/New_York:20250706T210000
DTEND;TZID=America/New_York:20250707T000000
DTSTAMP:20260419T093740
CREATED:20250615T000600Z
LAST-MODIFIED:20250615T002716Z
UID:10002870-1751835600-1751846400@swing46.nyc
SUMMARY:George Gee Swing Orchestra | SUN
DESCRIPTION:Late Set | Jazz Band\n9:00 – 12:00: George Gee Swing Orchestra \nGeorge Gee Swing Orchestra spearheaded the modern swing resurgence nearly four decades ago. Headlining regularly at Lincoln Center’s Midsummer Night Swing\, the swing big band was a favorite of famed Savoy swing dancer Frankie Manning having performed a long series of dance events in his honor in New York City\, Boston\, Chicago\, San Francisco and Tokyo! Lindy Hoppers around the country and world are big fans of the George Gee high-energy shows! Also catch them weekly at SWING46 Jazz & Supper in Times Square.
URL:https://swing46.nyc/event/sun-george-gee-late-jul-6/
LOCATION:Swing 46\, 349 W 46th Street\, New York\, NY\, 10036\, United States
CATEGORIES:Performances
ATTACH;FMTTYPE=image/jpeg:https://swing46.nyc/wp-content/uploads/2021/03/GeorgeGeeWIDE-Anna-YatskevichWEB1280.jpg
END:VEVENT
BEGIN:VEVENT
DTSTART;TZID=America/New_York:20250708T210000
DTEND;TZID=America/New_York:20250709T000000
DTSTAMP:20260419T093740
CREATED:20250619T015012Z
LAST-MODIFIED:20250705T031311Z
UID:10002877-1752008400-1752019200@swing46.nyc
SUMMARY:CLOSED TODAY | TUE
DESCRIPTION:CLOSED TODAY\nUnfortunately Swing 46 will be Closed today TUESDAY JULY 8th! We hope you’ll join us on another day!
URL:https://swing46.nyc/event/tue-rob-edwards-late-jul-8/
LOCATION:Swing 46\, 349 W 46th Street\, New York\, NY\, 10036\, United States
CATEGORIES:Performances
ATTACH;FMTTYPE=image/jpeg:https://swing46.nyc/wp-content/uploads/2024/12/sorry-were-closed.jpg
END:VEVENT
BEGIN:VEVENT
DTSTART;TZID=America/New_York:20250709T173000
DTEND;TZID=America/New_York:20250709T203000
DTSTAMP:20260419T093740
CREATED:20250613T000435Z
LAST-MODIFIED:20250613T210659Z
UID:10002857-1752082200-1752093000@swing46.nyc
SUMMARY:Kevin Blancq Big Band | WED
DESCRIPTION:Early Set | Jazz Big Band\n5:30 – 8:30: KEVIN BLANCQ BIG BAND \nTrumpeter/Educator brings his fabulous swingin’ big band featuring tunes from the Great American songbook.\nA native of New Orleans\, Kevin Blancq began musical studies with piano at age 9\, trumpet at 10\, and drums at 13. At the New Orleans Center for Creative Arts (NOCCA)\, Kevin studied both jazz (w/Ellis Marsalis) and classical styles while performing in a variety of musical settings.
URL:https://swing46.nyc/event/wed-kevin-blancq-early-jul-9/
LOCATION:Swing 46\, 349 W 46th Street\, New York\, NY\, 10036\, United States
CATEGORIES:Performances
ATTACH;FMTTYPE=image/jpeg:https://swing46.nyc/wp-content/uploads/2025/01/Kevin-Blancq-Big-Band-2024-OCT16CROPPED_IMG_6753.jpg
END:VEVENT
BEGIN:VEVENT
DTSTART;TZID=America/New_York:20250709T210000
DTEND;TZID=America/New_York:20250710T000000
DTSTAMP:20260419T093740
CREATED:20250614T233341Z
LAST-MODIFIED:20250614T234938Z
UID:10002862-1752094800-1752105600@swing46.nyc
SUMMARY:Swingadelic Big Band | WED
DESCRIPTION:Late Set | Jazz Band\n9:00 – 12:00: Swingadelic Big Band. \nSwingadelic\, hailed as “Hoboken’s greatest little big band\,” is led by bassist Dave Post. This outfit plays a mix of Swing\, Jump Blues\, vintage rhythm & blues and much more.\nSwingadelic has performed at Lincoln Center’s Midsummer Night Swing\, NJPAC\, and at many festivals\, including Bele Chere (Ashville NC)\, MusikFest (Allentown PA)\, the CD 109 Jazz & Blues Festival (Red Bank\, NJ) and the sanofi-aventis JazzFest (Madison NJ)… \nThe band plays about 100 dates per year and has traveled from Maine to Atlanta. Swingadelic has maintained a residency for eight years at Swing 46 in NYC where they perform weekly.
URL:https://swing46.nyc/event/wed-swingadelic-late-jul-9/
LOCATION:Swing 46\, 349 W 46th Street\, New York\, NY\, 10036\, United States
CATEGORIES:Performances
ATTACH;FMTTYPE=image/jpeg:https://swing46.nyc/wp-content/uploads/2022/07/Swingadelic-by-Paolo-WEB-IMG_4356.jpg
END:VEVENT
BEGIN:VEVENT
DTSTART;TZID=America/New_York:20250710T173000
DTEND;TZID=America/New_York:20250710T203000
DTSTAMP:20260419T093740
CREATED:20250628T002600Z
LAST-MODIFIED:20250628T002600Z
UID:10002906-1752168600-1752179400@swing46.nyc
SUMMARY:Amy London | THU
DESCRIPTION:Early Set | Jazz Quartet\n5:30 – 8:30: AMY LONDON \nAmy London is known and loved in New York City jazz and Broadway circles for her effortless sound\, impeccable musicianship and depth of emotion. Her most recent CD on Motema\, The Royal Bopsters Project\, features a vocal jazz quartet with Ms. London as the leader and soprano.
URL:https://swing46.nyc/event/thu-amy-london-early-jul-10/
LOCATION:Swing 46\, 349 W 46th Street\, New York\, NY\, 10036\, United States
CATEGORIES:Performances
ATTACH;FMTTYPE=image/jpeg:https://swing46.nyc/wp-content/uploads/2022/07/Amy-London-photo.jpg
END:VEVENT
BEGIN:VEVENT
DTSTART;TZID=America/New_York:20250710T210000
DTEND;TZID=America/New_York:20250711T000000
DTSTAMP:20260419T093740
CREATED:20250614T235540Z
LAST-MODIFIED:20250614T235750Z
UID:10002866-1752181200-1752192000@swing46.nyc
SUMMARY:Stan Rubin Orchestra featuring Joe Politi | THU
DESCRIPTION:Late Set | Jazz Band\n9:00 – 12:00: Stan Rubin Orchestra feat. Joe Politi \nStan Rubin Orchestra feat. Joe Politi “Swing is a form of music that grew out of jazz\,” explained Stan Rubin. “The beauty of big-band swing is that it combines musical structure with improvisation\, the hallmark of jazz\, but swing doesn’t abandon the melody like some modern jazz.” As ruler of his particular kingdom\, Stan built over many decades in a library of swing\, a collection of the arrangements played by the likes of Goodman\, the Dorsey Brothers\, Artie Shaw\, Duke Ellington\, Count Basie\, Harry James and a half-dozen others who swung America from the 1930s into the early 50s. And he continues to keep this brand of music on the menu\, through live appearances by the Stan Rubin Orchestra.
URL:https://swing46.nyc/event/thu-stan-rubin-late-jul-10/
LOCATION:Swing 46\, 349 W 46th Street\, New York\, NY\, 10036\, United States
CATEGORIES:Performances
ATTACH;FMTTYPE=image/jpeg:https://swing46.nyc/wp-content/uploads/2022/07/StanRubinJoePolito_screenshot_SWING46.jpg
END:VEVENT
BEGIN:VEVENT
DTSTART;TZID=America/New_York:20250711T173000
DTEND;TZID=America/New_York:20250711T203000
DTSTAMP:20260419T093740
CREATED:20250623T215725Z
LAST-MODIFIED:20250626T150411Z
UID:10002886-1752255000-1752265800@swing46.nyc
SUMMARY:Janice Friedman Quartet | FRI
DESCRIPTION:Early Set | Jazz Quartet\n5:30 – 8:30: Born and based in New York City\, Janice Friedman has done music here and all over the world for over three decades. She’s played in the most famous of concert halls and notable clubs from Carnegie Hall and the JFK Arts Center to the Blue Note\, Birdland\, Kitano\, Smoke\, Dizzy’s Jazz Club\, Sweet Basil\, Sweet Rhythm\, Mezzrow\, Smalls and Iridium. You can safely say she has wowed audiences from coast to coast and on practically every continent on the globe. visit our EventBrite page for tickets if you don’t see ticket window below.
URL:https://swing46.nyc/event/fri-janice-friedman-early-jul11/
LOCATION:Swing 46\, 349 W 46th Street\, New York\, NY\, 10036\, United States
CATEGORIES:Parties,Performances
ATTACH;FMTTYPE=image/jpeg:https://swing46.nyc/wp-content/uploads/2022/07/Janice-Friedman-FB-photo.jpg
END:VEVENT
BEGIN:VEVENT
DTSTART;TZID=America/New_York:20250711T210000
DTEND;TZID=America/New_York:20250712T010000
DTSTAMP:20260419T093740
CREATED:20250623T220019Z
LAST-MODIFIED:20250629T214746Z
UID:10002887-1752267600-1752282000@swing46.nyc
SUMMARY:Bill Malchow Band | FRI
DESCRIPTION:Late Set | Jazz Quartet\n9:00 – 1:00: Bill Malchow Band \nBill Malchow is a pianist and vocalist who plays New Orleans-influenced blues\, jazz\, funk and R&B at clubs and festivals in New York City and New Orleans\, where you might also catch him jamming on the Hammond organ or his Hohner accordion. Whether performing solo or as the Bill Malchow Trio\, or with his larger band\, the Go Cup All Stars\, Bill’s shows are fun. He mixes originals\, standards and New Orleans classics with improvisation\, great storytelling and a wicked sense of humor\, which makes for a good time had by all. visit our EventBrite page for tickets if you don’t see the ticket window below.
URL:https://swing46.nyc/event/sat-bill-malchow-late-jul11/
LOCATION:Swing 46\, 349 W 46th Street\, New York\, NY\, 10036\, United States
CATEGORIES:Performances
ATTACH;FMTTYPE=image/jpeg:https://swing46.nyc/wp-content/uploads/2022/07/BillMalshowatNoPiano600.jpg
END:VEVENT
BEGIN:VEVENT
DTSTART;TZID=America/New_York:20250712T173000
DTEND;TZID=America/New_York:20250712T203000
DTSTAMP:20260419T093740
CREATED:20250623T230236Z
LAST-MODIFIED:20250629T220518Z
UID:10002889-1752341400-1752352200@swing46.nyc
SUMMARY:Michelle Collier Swingtet | SAT
DESCRIPTION:Early Set | Jazz Quartet\n5:30 – 8:30: Michelle Collier Swingtet. Michelle Collier is the songstress of Swing 46\, captivating audiences from around the world with her powerful and melodic voice. Her shows keep everyone foot-tapping their way to the dance floor. So come join in and experience the magic of The Great American Songbook. Michelle Collier has worked as a professional singer\, dancer\, choreographer and performer for live theater\, orchestras and bands for the past 30 years. Performance venues range from jazz clubs and concert halls to regional theaters\, outdoor amphitheaters and football stadiums. Michelle has performed at a variety of live performance venues in NYC\, in Times Square and around the world.. visit our EventBrite page for ticket if you don’t see ticket window below.
URL:https://swing46.nyc/event/sat-michelle-collier-early-jul12/
LOCATION:Swing 46\, 349 W 46th Street\, New York\, NY\, 10036\, United States
CATEGORIES:Parties,Performances
ATTACH;FMTTYPE=image/jpeg:https://swing46.nyc/wp-content/uploads/2022/08/Michelle-Collier-with-SSOcropped.jpg
END:VEVENT
BEGIN:VEVENT
DTSTART;TZID=America/New_York:20250712T210000
DTEND;TZID=America/New_York:20250713T010000
DTSTAMP:20260419T093740
CREATED:20250623T235029Z
LAST-MODIFIED:20250629T220829Z
UID:10002891-1752354000-1752368400@swing46.nyc
SUMMARY:Victor's Vintage Vipers | SAT
DESCRIPTION:Late Sets | Jazz Band\nVictor’s Vintage Vipers bring us “Hard driving swing\, hard driving R&B\, easy dancing ’cause you can’t sit still”. Victor Neufeld has been leading his Jazz Band of NYC Jazz musicians for a number of years\, after a long and very successful career as an Executive Producer of many well-known network TV news programs. For twenty years\, Victor was the Executive Producer of 20/20 at ABC News\, winning 23 Emmy awards. He is a New York native\, and a longtime neighbor of Arthouse Hotel\, living on West End Ave….for over thirty years. visit our EventBrite page for ticket if you don’t see ticket window below.
URL:https://swing46.nyc/event/sat-victor-vintage-late-jul12/
LOCATION:Swing 46\, 349 W 46th Street\, New York\, NY\, 10036\, United States
CATEGORIES:Parties,Performances
ATTACH;FMTTYPE=image/jpeg:https://swing46.nyc/wp-content/uploads/2023/05/Victors-Vinatage-Vipers-Flyer.jpg
END:VEVENT
END:VCALENDAR