BEGIN:VCALENDAR
VERSION:2.0
PRODID:-//Swing 46 - ECPv6.15.12//NONSGML v1.0//EN
CALSCALE:GREGORIAN
METHOD:PUBLISH
X-ORIGINAL-URL:https://swing46.nyc
X-WR-CALDESC:Events for Swing 46
REFRESH-INTERVAL;VALUE=DURATION:PT1H
X-Robots-Tag:noindex
X-PUBLISHED-TTL:PT1H
BEGIN:VTIMEZONE
TZID:America/New_York
BEGIN:DAYLIGHT
TZOFFSETFROM:-0500
TZOFFSETTO:-0400
TZNAME:EDT
DTSTART:20240310T070000
END:DAYLIGHT
BEGIN:STANDARD
TZOFFSETFROM:-0400
TZOFFSETTO:-0500
TZNAME:EST
DTSTART:20241103T060000
END:STANDARD
BEGIN:DAYLIGHT
TZOFFSETFROM:-0500
TZOFFSETTO:-0400
TZNAME:EDT
DTSTART:20250309T070000
END:DAYLIGHT
BEGIN:STANDARD
TZOFFSETFROM:-0400
TZOFFSETTO:-0500
TZNAME:EST
DTSTART:20251102T060000
END:STANDARD
BEGIN:DAYLIGHT
TZOFFSETFROM:-0500
TZOFFSETTO:-0400
TZNAME:EDT
DTSTART:20260308T070000
END:DAYLIGHT
BEGIN:STANDARD
TZOFFSETFROM:-0400
TZOFFSETTO:-0500
TZNAME:EST
DTSTART:20261101T060000
END:STANDARD
END:VTIMEZONE
BEGIN:VEVENT
DTSTART;TZID=America/New_York:20250621T210000
DTEND;TZID=America/New_York:20250622T010000
DTSTAMP:20260419T113139
CREATED:20250512T232837Z
LAST-MODIFIED:20250612T064531Z
UID:10002838-1750539600-1750554000@swing46.nyc
SUMMARY:Ron Sunshine Swing Orchestra | SAT
DESCRIPTION:Late Set | Live Music \n9:00 – 1:00: Ron Sunshine Swing Orchestra – Ron Sunshine and his band have traveled the world\, playing concerts\, festivals and nightclubs\, featured along the way on CNN\, BET\, NBC\, Fox\, BBC\, and other international television\, as well as numerous nationally released compilation CDs\, books\, films\, hundreds of radio stations in the US and abroad\, as well as in nationally televised advertisements. Popular with dancers as well as listeners\, Ron Sunshine and his band continue to dazzle audiences from New York to Los Angeles\, from Paris to Stockholm\, from Bermuda to Red Bank. They also provide music for all kinds of special events\, from corporate extravaganzas to intimate private soirees.
URL:https://swing46.nyc/event/sat-ron-sunshine-late-jun21/
LOCATION:Swing 46\, 349 W 46th Street\, New York\, NY\, 10036\, United States
CATEGORIES:Parties,Performances
ATTACH;FMTTYPE=image/jpeg:https://swing46.nyc/wp-content/uploads/2021/02/RonSunshine_Harmonica_BW_HIGHSwing46-1024x700-1.jpg
END:VEVENT
BEGIN:VEVENT
DTSTART;TZID=America/New_York:20250622T173000
DTEND;TZID=America/New_York:20250622T203000
DTSTAMP:20260419T113139
CREATED:20250514T002502Z
LAST-MODIFIED:20250514T002502Z
UID:10002850-1750613400-1750624200@swing46.nyc
SUMMARY:Amy London | SUN
DESCRIPTION:Early Set | Jazz Quartet\n5:30 – 8:30: AMY LONDON \nAmy London is known and loved in New York City jazz and Broadway circles for her effortless sound\, impeccable musicianship and depth of emotion. Her most recent CD on Motema\, The Royal Bopsters Project\, features a vocal jazz quartet with Ms. London as the leader and soprano
URL:https://swing46.nyc/event/sun-amy-london-early-jun-22/
LOCATION:Swing 46\, 349 W 46th Street\, New York\, NY\, 10036\, United States
CATEGORIES:Performances
ATTACH;FMTTYPE=image/jpeg:https://swing46.nyc/wp-content/uploads/2022/07/Amy-London-photo.jpg
END:VEVENT
BEGIN:VEVENT
DTSTART;TZID=America/New_York:20250622T210000
DTEND;TZID=America/New_York:20250623T000000
DTSTAMP:20260419T113139
CREATED:20250507T234740Z
LAST-MODIFIED:20250507T234740Z
UID:10002821-1750626000-1750636800@swing46.nyc
SUMMARY:George Gee Swing Orchestra | SUN
DESCRIPTION:Late Set | Jazz Band\n9:00 – 12:00: George Gee Swing Orchestra \nGeorge Gee Swing Orchestra spearheaded the modern swing resurgence nearly four decades ago. Headlining regularly at Lincoln Center’s Midsummer Night Swing\, the swing big band was a favorite of famed Savoy swing dancer Frankie Manning having performed a long series of dance events in his honor in New York City\, Boston\, Chicago\, San Francisco and Tokyo! Lindy Hoppers around the country and world are big fans of the George Gee high-energy shows! Also catch them weekly at SWING46 Jazz & Supper in Times Square.
URL:https://swing46.nyc/event/sun-george-gee-late-jun-22/
LOCATION:Swing 46\, 349 W 46th Street\, New York\, NY\, 10036\, United States
CATEGORIES:Performances
ATTACH;FMTTYPE=image/jpeg:https://swing46.nyc/wp-content/uploads/2021/03/GeorgeGeeWIDE-Anna-YatskevichWEB1280.jpg
END:VEVENT
BEGIN:VEVENT
DTSTART;TZID=America/New_York:20250624T173000
DTEND;TZID=America/New_York:20250624T203000
DTSTAMP:20260419T113139
CREATED:20250513T015529Z
LAST-MODIFIED:20250621T213034Z
UID:10002844-1750786200-1750797000@swing46.nyc
SUMMARY:CLOSED TODAY | TUE
DESCRIPTION:CLOSED TODAY\nWe are Closed Today TUESDAY JUNE 24. We will reopen tomorrow Wednesday. We hope you can join us then!
URL:https://swing46.nyc/event/tue-closed-jun-24/
LOCATION:Swing 46\, 349 W 46th Street\, New York\, NY\, 10036\, United States
CATEGORIES:Performances
ATTACH;FMTTYPE=image/jpeg:https://swing46.nyc/wp-content/uploads/2024/12/sorry-were-closed.jpg
END:VEVENT
BEGIN:VEVENT
DTSTART;TZID=America/New_York:20250624T210000
DTEND;TZID=America/New_York:20250625T000000
DTSTAMP:20260419T113139
CREATED:20250509T032949Z
LAST-MODIFIED:20250621T213230Z
UID:10002826-1750798800-1750809600@swing46.nyc
SUMMARY:CLOSED TODAY | TUE
DESCRIPTION:CLOSED TODAY\nWe are Closed Today TUESDAY JUNE 24. We will reopen tomorrow Wednesday. We hope you can join us then!
URL:https://swing46.nyc/event/tue-closed-jun-24-2/
LOCATION:Swing 46\, 349 W 46th Street\, New York\, NY\, 10036\, United States
CATEGORIES:Performances
ATTACH;FMTTYPE=image/jpeg:https://swing46.nyc/wp-content/uploads/2024/12/sorry-were-closed.jpg
END:VEVENT
BEGIN:VEVENT
DTSTART;TZID=America/New_York:20250625T173000
DTEND;TZID=America/New_York:20250625T203000
DTSTAMP:20260419T113139
CREATED:20250501T015313Z
LAST-MODIFIED:20250625T201328Z
UID:10002809-1750872600-1750883400@swing46.nyc
SUMMARY:CLOSED DUE TO HEAT | WED
DESCRIPTION:SW46 CLOSED | EVENT CANCELLED\n5:30 – 8:30: KEVIN BLANCQ BIG BAND HAS BEEN CANCELLED TONIGHT DUE TO HEAT WE ARE CURRENTLY UNDERGOING AIR CONDITIONER REPAIRS. \nWe apologize for this last minute CLOSURE and change line-up but we had little choice. Please Join Us Tomorrow! \n 
URL:https://swing46.nyc/event/wed-kevin-blancq-early-jun-25/
LOCATION:Swing 46\, 349 W 46th Street\, New York\, NY\, 10036\, United States
CATEGORIES:Parties,Performances
ATTACH;FMTTYPE=image/jpeg:https://swing46.nyc/wp-content/uploads/2024/12/sorry-were-closed.jpg
END:VEVENT
BEGIN:VEVENT
DTSTART;TZID=America/New_York:20250625T210000
DTEND;TZID=America/New_York:20250626T000000
DTSTAMP:20260419T113139
CREATED:20250501T233540Z
LAST-MODIFIED:20250625T201509Z
UID:10002813-1750885200-1750896000@swing46.nyc
SUMMARY:CLOSED DUE TO HEAT | WED
DESCRIPTION:SW46 CLOSED | EVENT CANCELLED\n5:30 – 8:30: SWINGADELIC BIG BAND HAS BEEN CANCELLED TONIGHT DUE TO HEAT WE ARE CURRENTLY UNDERGOING AIR CONDITIONER REPAIRS. \nWe apologize for this last minute CLOSURE and change of line-up but we had little choice. Please Join Us Tomorrow!
URL:https://swing46.nyc/event/wed-swingadelic-late-jun-25/
LOCATION:Swing 46\, 349 W 46th Street\, New York\, NY\, 10036\, United States
CATEGORIES:Performances
ATTACH;FMTTYPE=image/jpeg:https://swing46.nyc/wp-content/uploads/2024/12/sorry-were-closed.jpg
END:VEVENT
BEGIN:VEVENT
DTSTART;TZID=America/New_York:20250626T173000
DTEND;TZID=America/New_York:20250626T203000
DTSTAMP:20260419T113139
CREATED:20250514T003422Z
LAST-MODIFIED:20250514T003535Z
UID:10002853-1750959000-1750969800@swing46.nyc
SUMMARY:John David Simon | THU
DESCRIPTION:Early Set | Jazz Quartet\n5:30 – 8:30: John David Simon \nSaxophonist and flutist\, John David Simon\, has performed extensively on the national and international jazz scene. Simon has worked with numerous luminaries including Ella Fitzgerald\, Jason Marsalis\, Chaka Khan\, James Carter\, T.S. Monk\, Pat Martino\, Clark Terry\, Ray Charles\, Charles Earland\, J.J. Johnson\, Shirley Scott\, and Houston Person. John’s big band credits include Lionel Hampton\, Illinois Jacquet\, Artie Shaw\, Jimmy Dorsey\, Harlem Renaissance and Cotton Club orchestras. He has toured Japan\, Europe\, Scandinavia\, Canada and the United States performing at major festivals including Monterey\, Montreal\, Playboy\, North Sea\, JVC\, Pori\, Grande Parade du Jazz (Nice\, France)\, and Newport Jazz Festival. Some of the venues John has played include Carnegie Hall\, Lincoln Center\, Radio City Music Hall\, The Kennedy Center\, The Hollywood Bowl\, Brooklyn Academy of Music\, Ravinia\, The Village Vanguard\, The Blue Note\, Dizzy’s Club Coca Cola\, and Jazz Standard. Currently Simon appears on over ten CD albums\, including three critically acclaimed as a leader\, his debut on Muse Records\, Legacy: The John Simon Trio Featuring Don Patterson\, his second\, John David Simon and Friends with Clark Terry & Etta Jones\, and latest CD album\, Phantasm\, both on WarmGroove Records. As a sideman\, Simon can be heard on Introducing The CJ Heptet with Cleave Guyton Jr. on Consolidated Artists Productions\, The Joe Sudler Swing Machine & Clark Terry on TJA Records\, Born to Swing with Buddy DeFranco on Satellite Records and The Ponderer with the Odean Pope Saxophone Choir on Soul Note Records. John also appears in the documentary film\, Texas Tenor: the Illinois Jacquet Story\, shown on the Bravo TV network.
URL:https://swing46.nyc/event/thu-john-david-simon-early-jun-26/
LOCATION:Swing 46\, 349 W 46th Street\, New York\, NY\, 10036\, United States
CATEGORIES:Performances
ATTACH;FMTTYPE=image/jpeg:https://swing46.nyc/wp-content/uploads/2023/07/John-David-Simon-Phantasm-CD-Cover-9-7-2014.jpg
END:VEVENT
BEGIN:VEVENT
DTSTART;TZID=America/New_York:20250626T210000
DTEND;TZID=America/New_York:20250627T000000
DTSTAMP:20260419T113139
CREATED:20250504T235440Z
LAST-MODIFIED:20250505T000331Z
UID:10002816-1750971600-1750982400@swing46.nyc
SUMMARY:Stan Rubin Orchestra featuring Joe Politi | THU
DESCRIPTION:Late Set | Jazz Band\n9:00 – 12:00: Stan Rubin Orchestra feat. Joe Politi \nStan Rubin Orchestra feat. Joe Politi “Swing is a form of music that grew out of jazz\,” explained Stan Rubin. “The beauty of big-band swing is that it combines musical structure with improvisation\, the hallmark of jazz\, but swing doesn’t abandon the melody like some modern jazz.” As ruler of his particular kingdom\, Stan built over many decades in a library of swing\, a collection of the arrangements played by the likes of Goodman\, the Dorsey Brothers\, Artie Shaw\, Duke Ellington\, Count Basie\, Harry James and a half-dozen others who swung America from the 1930s into the early 50s. And he continues to keep this brand of music on the menu\, through live appearances by the Stan Rubin Orchestra.
URL:https://swing46.nyc/event/thu-stan-rubin-late-jun-26/
LOCATION:Swing 46\, 349 W 46th Street\, New York\, NY\, 10036\, United States
CATEGORIES:Performances
ATTACH;FMTTYPE=image/jpeg:https://swing46.nyc/wp-content/uploads/2022/07/StanRubinJoePolito_screenshot_SWING46.jpg
END:VEVENT
BEGIN:VEVENT
DTSTART;TZID=America/New_York:20250627T173000
DTEND;TZID=America/New_York:20250627T203000
DTSTAMP:20260419T113139
CREATED:20250512T170249Z
LAST-MODIFIED:20250513T020227Z
UID:10002832-1751045400-1751056200@swing46.nyc
SUMMARY:Janice Friedman Quartet | FRI
DESCRIPTION:Early Set | Jazz Quartet \n5:30 – 8:30: Janice Friedman Quartet – Born and based in New York City\, Janice has done music here and all over the world for over three decades. She’s played in the most famous of concert halls and notable clubs from Carnegie Hall and the JFK Arts Center to the Blue Note\, Birdland\, Kitano\, Smoke\, Dizzy’s Jazz Club\, Sweet Basil\, Sweet Rhythm\, Mezzrow\, Smalls and Iridium. You can safely say she has wowed audiences from coast to coast and on practically every continent on the globe. visit our EventBrite page for tickets if you don’t see ticket window below.
URL:https://swing46.nyc/event/fri-janice-friedman-early-jun27/
LOCATION:Swing 46\, 349 W 46th Street\, New York\, NY\, 10036\, United States
CATEGORIES:Performances
ATTACH;FMTTYPE=image/jpeg:https://swing46.nyc/wp-content/uploads/2022/07/Janice-Friedman-FB-photo.jpg
END:VEVENT
BEGIN:VEVENT
DTSTART;TZID=America/New_York:20250627T210000
DTEND;TZID=America/New_York:20250628T010000
DTSTAMP:20260419T113139
CREATED:20250513T041032Z
LAST-MODIFIED:20250819T221452Z
UID:10002845-1751058000-1751072400@swing46.nyc
SUMMARY:Ingrid Lucia & The Flying Neutrinos | FRIDAY
DESCRIPTION:Late Set | Live Music 9:00 – 1:00: Ingrid Lucia & The Flying Neutrinos. Special Rare Appearance by Ingrid Lucia & The Flying Neutrinos. ONE NIGHT ONLY! \nThe Flying Neutrinos rose to prominence alongside the wave of retro-swing bands in the 1990s. Their punchy rhythmic drive gave rebirth to the jump blues bands of that bygone era. Sparkling vocals from Lucia adds immeasurably to the quintet’s appeal. \n\n\n\nRaised in New Orleans\, Louisiana\, and Austin\, Texas\, and various places where her itinerant parents paused in their wanderings\, Ingrid Lucia was filled from childhood with an interest in music and the arts. Her parents\, musician David Pearlman and artist Betsy Terrell\, formed a family band in the 80s\, and Lucia joined them at the age of 11 as drummer\, dancer and singer. The band was named the Flying Neutrinos and they played on the streets surviving hardships and setbacks but forming a self-contained\, mutually supportive and warm environment. \nWhen her parents decided to leave the band in the early 90s\, Lucia took over as leader. Alongside her from childhood and a long-standing member of the band is her cousin Todd Londagin. A striking vocal sound brought this fine young singer much approval when the Flying Neutrinos rose to prominence alongside the wave of retro-swing although in their case\, their punchy rhythmic drive had a lot more to do with the jump blues bands of that bygone era and they are much less noticeably post-rock. Sparkling vocals from Lucia added immeasurably to the quintet’s appeal. \nIF you don’t see ticket options below\, CLICK HERE FOR TICKETS ON EVENTBRITE
URL:https://swing46.nyc/event/sat-ingrid-lucia-the-flying-neutrinos-jun27/
LOCATION:Swing 46\, 349 W 46th Street\, New York\, NY\, 10036\, United States
CATEGORIES:Parties,Performances
ATTACH;FMTTYPE=image/jpeg:https://swing46.nyc/wp-content/uploads/2025/05/Ingrid-Lucia-Poster-2025-June-27web.jpg
END:VEVENT
BEGIN:VEVENT
DTSTART;TZID=America/New_York:20250628T173000
DTEND;TZID=America/New_York:20250628T203000
DTSTAMP:20260419T113139
CREATED:20250514T021454Z
LAST-MODIFIED:20250514T021718Z
UID:10002855-1751131800-1751142600@swing46.nyc
SUMMARY:Michelle Collier Swingtet | SAT
DESCRIPTION:Early Set | Jazz Quartet\n5:30 – 8:30: Michelle Collier Swingtet. Michelle Collier is the songstress of Swing 46\, captivating audiences from around the world with her powerful and melodic voice. Her shows keep everyone foot-tapping their way to the dance floor. So come join in and experience the magic of The Great American Songbook. Michelle Collier has worked as a professional singer\, dancer\, choreographer and performer for live theater\, orchestras and bands for the past 30 years. Performance venues range from jazz clubs and concert halls to regional theaters\, outdoor amphitheaters and football stadiums. Michelle has performed at a variety of live performance venues in NYC\, in Times Square and around the world.. visit our EventBrite page for ticket if you don’t see ticket window below.
URL:https://swing46.nyc/event/sat-michelle-collier-early-jun-28/
LOCATION:Swing 46\, 349 W 46th Street\, New York\, NY\, 10036\, United States
CATEGORIES:Parties,Performances
ATTACH;FMTTYPE=image/jpeg:https://swing46.nyc/wp-content/uploads/2022/08/Michelle-Collier-with-SSOcropped.jpg
END:VEVENT
BEGIN:VEVENT
DTSTART;TZID=America/New_York:20250628T210000
DTEND;TZID=America/New_York:20250629T010000
DTSTAMP:20260419T113139
CREATED:20250513T043214Z
LAST-MODIFIED:20250513T043356Z
UID:10002847-1751144400-1751158800@swing46.nyc
SUMMARY:TKO Swingin' Dance Party w Timatha Kasten SAT
DESCRIPTION:Late Set | Live Music \n9:00 – 1:00: TKO Swingin’ Dance Party Band featuring Timatha Kasten. Timatha Kasten has been performing for fortune 500 corporate entertainment worldwide for over 20 years. Timatha’s energy and passion for delivering high quality entertainment with any of her shows\, bands or vintage style acts is second to none and is the reason she created TKO Music Entertainment. Timatha has performed for Presidents George H. W. Bush and President George W. Bush\, and is a hit celebrity impersonator for shows “Legends In Concert\,” “The Tonight Show with David Letterman\,” and “Cavalcade of Stars.” visit our EventBrite page if you don’t see ticket window below. \nYOUTUBE LINK
URL:https://swing46.nyc/event/sat-tko-swingin-late-jun28/
LOCATION:Swing 46\, 349 W 46th Street\, New York\, NY\, 10036\, United States
CATEGORIES:Parties,Performances
ATTACH;FMTTYPE=image/jpeg:https://swing46.nyc/wp-content/uploads/2023/03/Timatha-Kasten-TKO-PARTY-BAND-promo.jpg
END:VEVENT
END:VCALENDAR