BEGIN:VCALENDAR
VERSION:2.0
PRODID:-//Swing 46 - ECPv6.15.12//NONSGML v1.0//EN
CALSCALE:GREGORIAN
METHOD:PUBLISH
X-WR-CALNAME:Swing 46
X-ORIGINAL-URL:https://swing46.nyc
X-WR-CALDESC:Events for Swing 46
REFRESH-INTERVAL;VALUE=DURATION:PT1H
X-Robots-Tag:noindex
X-PUBLISHED-TTL:PT1H
BEGIN:VTIMEZONE
TZID:America/New_York
BEGIN:DAYLIGHT
TZOFFSETFROM:-0500
TZOFFSETTO:-0400
TZNAME:EDT
DTSTART:20240310T070000
END:DAYLIGHT
BEGIN:STANDARD
TZOFFSETFROM:-0400
TZOFFSETTO:-0500
TZNAME:EST
DTSTART:20241103T060000
END:STANDARD
BEGIN:DAYLIGHT
TZOFFSETFROM:-0500
TZOFFSETTO:-0400
TZNAME:EDT
DTSTART:20250309T070000
END:DAYLIGHT
BEGIN:STANDARD
TZOFFSETFROM:-0400
TZOFFSETTO:-0500
TZNAME:EST
DTSTART:20251102T060000
END:STANDARD
BEGIN:DAYLIGHT
TZOFFSETFROM:-0500
TZOFFSETTO:-0400
TZNAME:EDT
DTSTART:20260308T070000
END:DAYLIGHT
BEGIN:STANDARD
TZOFFSETFROM:-0400
TZOFFSETTO:-0500
TZNAME:EST
DTSTART:20261101T060000
END:STANDARD
END:VTIMEZONE
BEGIN:VEVENT
DTSTART;TZID=America/New_York:20250316T210000
DTEND;TZID=America/New_York:20250317T000000
DTSTAMP:20260419T082044
CREATED:20250223T032951Z
LAST-MODIFIED:20250223T033151Z
UID:10002677-1742158800-1742169600@swing46.nyc
SUMMARY:George Gee Swing Orchestra | SUN
DESCRIPTION:Late Set | Jazz Band\n9:00 – 12:00: George Gee Swing Orchestra \nGeorge Gee Swing Orchestra spearheaded the modern swing resurgence nearly four decades ago. Headlining regularly at Lincoln Center’s Midsummer Night Swing\, the swing big band was a favorite of famed Savoy swing dancer Frankie Manning having performed a long series of dance events in his honor in New York City\, Boston\, Chicago\, San Francisco and Tokyo! Lindy Hoppers around the country and world are big fans of the George Gee high-energy shows! Also catch them weekly at SWING46 Jazz & Supper in Times Square.
URL:https://swing46.nyc/event/sun-george-gee-late-mar-16/
LOCATION:Swing 46\, 349 W 46th Street\, New York\, NY\, 10036\, United States
CATEGORIES:Performances
ATTACH;FMTTYPE=image/jpeg:https://swing46.nyc/wp-content/uploads/2021/03/GeorgeGeeWIDE-Anna-YatskevichWEB1280.jpg
END:VEVENT
BEGIN:VEVENT
DTSTART;TZID=America/New_York:20250320T210000
DTEND;TZID=America/New_York:20250321T000000
DTSTAMP:20260419T082044
CREATED:20250214T020209Z
LAST-MODIFIED:20250320T221659Z
UID:10002662-1742504400-1742515200@swing46.nyc
SUMMARY:Stan Rubin Orchestra featuring Joe Politi | THU
DESCRIPTION:Late Set | Jazz Band \n9:00 – 12:00: Stan Rubin Orchestra feat. Joe Politi \nStan Rubin Orchestra feat. Joe Politi “Swing is a form of music that grew out of jazz\,” explained Stan Rubin. “The beauty of big-band swing is that it combines musical structure with improvisation\, the hallmark of jazz\, but swing doesn’t abandon the melody like some modern jazz.” As ruler of his particular kingdom\, Stan built over many decades in a library of swing\, a collection of the arrangements played by the likes of Goodman\, the Dorsey Brothers\, Artie Shaw\, Duke Ellington\, Count Basie\, Harry James and a half-dozen others who swung America from the 1930s into the early 50s. And he continues to keep this brand of music on the menu\, through live appearances by the Stan Rubin Orchestra.
URL:https://swing46.nyc/event/thu-stan-rubin-late-mar-20/
LOCATION:Swing 46\, 349 W 46th Street\, New York\, NY\, 10036\, United States
CATEGORIES:Performances
ATTACH;FMTTYPE=image/jpeg:https://swing46.nyc/wp-content/uploads/2022/07/StanRubinJoePolito_screenshot_SWING46.jpg
END:VEVENT
BEGIN:VEVENT
DTSTART;TZID=America/New_York:20250322T210000
DTEND;TZID=America/New_York:20250323T010000
DTSTAMP:20260419T082044
CREATED:20250223T145855Z
LAST-MODIFIED:20250315T222011Z
UID:10002685-1742677200-1742691600@swing46.nyc
SUMMARY:TKO Swingin' Party Band featuring Timatha Kasten
DESCRIPTION:Late Set | Live Music\n9:00 – 1:00: TKO Swingin’ Dance Party Band featuring Timatha Kasten. Timatha Kasten has been performing for fortune 500 corporate entertainment worldwide for over 20 years. Timatha’s energy and passion for delivering high quality entertainment with any of her shows\, bands or vintage style acts is second to none and is the reason she created TKO Music Entertainment. Timatha has performed for Presidents George H. W. Bush and President George W. Bush\, and is a hit celebrity impersonator for shows “Legends In Concert\,” “The Tonight Show with David Letterman\,” and “Cavalcade of Stars.” visit our EventBrite page if you don’t see ticket window below. \nYOUTUBE LINK
URL:https://swing46.nyc/event/sat-tko-swingin-party-mar22/
LOCATION:Swing 46\, 349 W 46th Street\, New York\, NY\, 10036\, United States
CATEGORIES:Performances
ATTACH;FMTTYPE=image/jpeg:https://swing46.nyc/wp-content/uploads/2024/01/Timatha-Kasten-TKO-PARTY-BAND-promo.jpg
END:VEVENT
END:VCALENDAR