BEGIN:VCALENDAR
VERSION:2.0
PRODID:-//Swing 46 - ECPv6.15.12//NONSGML v1.0//EN
CALSCALE:GREGORIAN
METHOD:PUBLISH
X-WR-CALNAME:Swing 46
X-ORIGINAL-URL:https://swing46.nyc
X-WR-CALDESC:Events for Swing 46
REFRESH-INTERVAL;VALUE=DURATION:PT1H
X-Robots-Tag:noindex
X-PUBLISHED-TTL:PT1H
BEGIN:VTIMEZONE
TZID:America/New_York
BEGIN:DAYLIGHT
TZOFFSETFROM:-0500
TZOFFSETTO:-0400
TZNAME:EDT
DTSTART:20240310T070000
END:DAYLIGHT
BEGIN:STANDARD
TZOFFSETFROM:-0400
TZOFFSETTO:-0500
TZNAME:EST
DTSTART:20241103T060000
END:STANDARD
BEGIN:DAYLIGHT
TZOFFSETFROM:-0500
TZOFFSETTO:-0400
TZNAME:EDT
DTSTART:20250309T070000
END:DAYLIGHT
BEGIN:STANDARD
TZOFFSETFROM:-0400
TZOFFSETTO:-0500
TZNAME:EST
DTSTART:20251102T060000
END:STANDARD
BEGIN:DAYLIGHT
TZOFFSETFROM:-0500
TZOFFSETTO:-0400
TZNAME:EDT
DTSTART:20260308T070000
END:DAYLIGHT
BEGIN:STANDARD
TZOFFSETFROM:-0400
TZOFFSETTO:-0500
TZNAME:EST
DTSTART:20261101T060000
END:STANDARD
END:VTIMEZONE
BEGIN:VEVENT
DTSTART;TZID=America/New_York:20250308T210000
DTEND;TZID=America/New_York:20250309T010000
DTSTAMP:20260419T163630
CREATED:20250219T063825Z
LAST-MODIFIED:20250219T064237Z
UID:10002666-1741467600-1741482000@swing46.nyc
SUMMARY:The Nick Palumbo Combo featuring Special Guest Vocalists | SAT
DESCRIPTION:Late Set | Jazz Band\n9:00 – 1:00: Nick Palumbo Combo Featuring Special Guest Vocalists\nThis combo specializes in The 1950s style of jump blues\, rhythm & blues\, roots rock n’ roll and swing.\nThey bring out the very best in vintage music\, style and American nostalgia. Lead vocalist Matthew Piazzi was a TOP 10 finalist on AMERICA’S GOT TALENT as a witty celebrity voice impressionist and comedian. Lead Guitarist/Vocalist Nick Palumbo is a musical prodigy who played a significant role in the re-birth of Swing\, Jump Blues & Root’s Rock n’ Roll during the 1990s. Together\, they take you on an all American nostalgic journey back to an era of romance and the birth of Rock N’ Roll\, covering a collection of 1950s rhythm & blues\, jump blues\, swing\, boogie woogie\, cha cha and more.\nYOUTUBE HIGHLIGHTS\n\nOur Special Guest Vocalists TBA! 
URL:https://swing46.nyc/event/sat_nick_palumbo_combo_mar8/
LOCATION:Swing 46\, 349 W 46th Street\, New York\, NY\, 10036\, United States
CATEGORIES:Performances
ATTACH;FMTTYPE=image/jpeg:https://swing46.nyc/wp-content/uploads/2025/01/The-Nick-Palumbo-Combo-Vertical-SAT.jpg
END:VEVENT
BEGIN:VEVENT
DTSTART;TZID=America/New_York:20250309T210000
DTEND;TZID=America/New_York:20250310T000000
DTSTAMP:20260419T163630
CREATED:20250223T032815Z
LAST-MODIFIED:20250223T032911Z
UID:10002676-1741554000-1741564800@swing46.nyc
SUMMARY:George Gee Swing Orchestra | SUN
DESCRIPTION:Late Set | Jazz Band\n9:00 – 12:00: George Gee Swing Orchestra \nGeorge Gee Swing Orchestra spearheaded the modern swing resurgence nearly four decades ago. Headlining regularly at Lincoln Center’s Midsummer Night Swing\, the swing big band was a favorite of famed Savoy swing dancer Frankie Manning having performed a long series of dance events in his honor in New York City\, Boston\, Chicago\, San Francisco and Tokyo! Lindy Hoppers around the country and world are big fans of the George Gee high-energy shows! Also catch them weekly at SWING46 Jazz & Supper in Times Square.
URL:https://swing46.nyc/event/sun-george-gee-late-mar-9/
LOCATION:Swing 46\, 349 W 46th Street\, New York\, NY\, 10036\, United States
CATEGORIES:Performances
ATTACH;FMTTYPE=image/jpeg:https://swing46.nyc/wp-content/uploads/2021/03/GeorgeGeeWIDE-Anna-YatskevichWEB1280.jpg
END:VEVENT
BEGIN:VEVENT
DTSTART;TZID=America/New_York:20250312T210000
DTEND;TZID=America/New_York:20250313T000000
DTSTAMP:20260419T163630
CREATED:20250214T015753Z
LAST-MODIFIED:20250220T035217Z
UID:10002657-1741813200-1741824000@swing46.nyc
SUMMARY:Swingadelic Big Band | WED
DESCRIPTION:Late Set | Jazz Band\n9:00 – 12:00: Swingadelic Big Band. \nSwingadelic\, hailed as “Hoboken’s greatest little big band\,” is led by bassist Dave Post. This outfit plays a mix of Swing\, Jump Blues\, vintage rhythm & blues and much more.\nSwingadelic has performed at Lincoln Center’s Midsummer Night Swing\, NJPAC\, and at many festivals\, including Bele Chere (Ashville NC)\, MusikFest (Allentown PA)\, the CD 109 Jazz & Blues Festival (Red Bank\, NJ) and the sanofi-aventis JazzFest (Madison NJ)… \nThe band plays about 100 dates per year and has traveled from Maine to Atlanta. Swingadelic has maintained a residency for eight years at Swing 46 in NYC where they perform weekly.
URL:https://swing46.nyc/event/wed-swingadelic-late-mar-12/
LOCATION:Swing 46\, 349 W 46th Street\, New York\, NY\, 10036\, United States
CATEGORIES:Performances
ATTACH;FMTTYPE=image/jpeg:https://swing46.nyc/wp-content/uploads/2022/07/Swingadelic-by-Paolo-WEB-IMG_4356.jpg
END:VEVENT
BEGIN:VEVENT
DTSTART;TZID=America/New_York:20250313T210000
DTEND;TZID=America/New_York:20250314T000000
DTSTAMP:20260419T163630
CREATED:20250214T020127Z
LAST-MODIFIED:20250320T221700Z
UID:10002661-1741899600-1741910400@swing46.nyc
SUMMARY:Stan Rubin Orchestra featuring Joe Politi | THU
DESCRIPTION:Late Set | Jazz Band \n9:00 – 12:00: Stan Rubin Orchestra feat. Joe Politi \nStan Rubin Orchestra feat. Joe Politi “Swing is a form of music that grew out of jazz\,” explained Stan Rubin. “The beauty of big-band swing is that it combines musical structure with improvisation\, the hallmark of jazz\, but swing doesn’t abandon the melody like some modern jazz.” As ruler of his particular kingdom\, Stan built over many decades in a library of swing\, a collection of the arrangements played by the likes of Goodman\, the Dorsey Brothers\, Artie Shaw\, Duke Ellington\, Count Basie\, Harry James and a half-dozen others who swung America from the 1930s into the early 50s. And he continues to keep this brand of music on the menu\, through live appearances by the Stan Rubin Orchestra.
URL:https://swing46.nyc/event/thu-stan-rubin-late-mar-13/
LOCATION:Swing 46\, 349 W 46th Street\, New York\, NY\, 10036\, United States
CATEGORIES:Performances
ATTACH;FMTTYPE=image/jpeg:https://swing46.nyc/wp-content/uploads/2022/07/StanRubinJoePolito_screenshot_SWING46.jpg
END:VEVENT
END:VCALENDAR