BEGIN:VCALENDAR
VERSION:2.0
PRODID:-//Swing 46 - ECPv6.15.12//NONSGML v1.0//EN
CALSCALE:GREGORIAN
METHOD:PUBLISH
X-ORIGINAL-URL:https://swing46.nyc
X-WR-CALDESC:Events for Swing 46
REFRESH-INTERVAL;VALUE=DURATION:PT1H
X-Robots-Tag:noindex
X-PUBLISHED-TTL:PT1H
BEGIN:VTIMEZONE
TZID:America/New_York
BEGIN:DAYLIGHT
TZOFFSETFROM:-0500
TZOFFSETTO:-0400
TZNAME:EDT
DTSTART:20220313T070000
END:DAYLIGHT
BEGIN:STANDARD
TZOFFSETFROM:-0400
TZOFFSETTO:-0500
TZNAME:EST
DTSTART:20221106T060000
END:STANDARD
BEGIN:DAYLIGHT
TZOFFSETFROM:-0500
TZOFFSETTO:-0400
TZNAME:EDT
DTSTART:20230312T070000
END:DAYLIGHT
BEGIN:STANDARD
TZOFFSETFROM:-0400
TZOFFSETTO:-0500
TZNAME:EST
DTSTART:20231105T060000
END:STANDARD
BEGIN:DAYLIGHT
TZOFFSETFROM:-0500
TZOFFSETTO:-0400
TZNAME:EDT
DTSTART:20240310T070000
END:DAYLIGHT
BEGIN:STANDARD
TZOFFSETFROM:-0400
TZOFFSETTO:-0500
TZNAME:EST
DTSTART:20241103T060000
END:STANDARD
END:VTIMEZONE
BEGIN:VEVENT
DTSTART;TZID=America/New_York:20231125T210000
DTEND;TZID=America/New_York:20231126T010000
DTSTAMP:20260419T215655
CREATED:20231023T031242Z
LAST-MODIFIED:20231023T031242Z
UID:10001725-1700946000-1700960400@swing46.nyc
SUMMARY:SAT | Mitch Woods & His Rocket 88s
DESCRIPTION:Late Set | Live Music\n9:00 – 1:00: Mitch Woods and His Rocket 88s have been the torchbearers of a great American blues musical heritage\, not for three years but three decades. Taking their inspiration from the great jump n’ boogie outfits of the late 40s and early 50s\, they breathe fresh life into the music that gave birth to rock n’roll. Woods styled his group after the jumpin’ n’ jivin’\, shoutin’ n’ honkin’\, pumpin’ n’ poundin’ bands of Louis Jordan\, Wynonie Harris\, Joe and Jimmy Liggins\, Amos Milburn\, and Roy Milton. Adding a healthy dose of New Orleans rhythm and blues\, piledrivin’ piano\, and some of his own contemporary playful lyrics\, Woods and His Rocket 88s forge their own brand of music they call “rock-a-boogie.”
URL:https://swing46.nyc/event/sat-mitch-woods-late/
LOCATION:Swing 46\, 349 W 46th Street\, New York\, NY\, 10036\, United States
CATEGORIES:Performances
ATTACH;FMTTYPE=image/jpeg:https://swing46.nyc/wp-content/uploads/2023/10/MitchWoods_Red_VintageCar.jpg
END:VEVENT
BEGIN:VEVENT
DTSTART;TZID=America/New_York:20231126T210000
DTEND;TZID=America/New_York:20231127T000000
DTSTAMP:20260419T215655
CREATED:20231018T015719Z
LAST-MODIFIED:20231018T015719Z
UID:10001705-1701032400-1701043200@swing46.nyc
SUMMARY:SUN | George Gee Swing Orchestra
DESCRIPTION:Late Set | Jazz Band\n9:00 – 12:00: George Gee Swing Orchestra spearheaded the modern swing resurgence nearly four decades ago. Headlining regularly at Lincoln Center’s Midsummer Night Swing\, the swing big band was a favorite of famed Savoy swing dancer Frankie Manning having performed a long series of dance events in his honor in New York City\, Boston\, Chicago\, San Francisco and Tokyo! Lindy Hoppers around the country and world are big fans of the George Gee high-energy shows! Also catch them weekly at SWING46 Jazz & Supper in Times Square.
URL:https://swing46.nyc/event/sun-george-gee-late-nov-26/
LOCATION:Swing 46\, 349 W 46th Street\, New York\, NY\, 10036\, United States
CATEGORIES:Performances
ATTACH;FMTTYPE=image/jpeg:https://swing46.nyc/wp-content/uploads/2021/03/GeorgeGeeWIDE-Anna-YatskevichWEB1280.jpg
END:VEVENT
BEGIN:VEVENT
DTSTART;TZID=America/New_York:20231128T210000
DTEND;TZID=America/New_York:20231129T000000
DTSTAMP:20260419T215655
CREATED:20231018T013608Z
LAST-MODIFIED:20231018T013608Z
UID:10001686-1701205200-1701216000@swing46.nyc
SUMMARY:TUE | Rob Edwards Big Band
DESCRIPTION:Late Set | Jazz Band\n9:00 – 12:00: Rob Edwards Big Band \nRob Edwards brings his powerhouse Big Band to Swing 46 and features marvelously talented special guest vocalists. \nBorn in West Palm Beach\, FL\, Robert completed his schooling at the Juilliard school and soon after joined the Roy Hargrove Big Band\, Dizzy Gillespie All-Star Big Band and Jimmy Heath’s Big Band.  John Lee\, Leader of the Dizzy Gillespie All-Star Band\, hails Robert as\, “A future giant of jazz trombone.”  His first record is titled “Sound Business.”
URL:https://swing46.nyc/event/tue-rob-edwards-late-nov-28/
LOCATION:Swing 46\, 349 W 46th Street\, New York\, NY\, 10036\, United States
CATEGORIES:Performances
ATTACH;FMTTYPE=image/jpeg:https://swing46.nyc/wp-content/uploads/2022/07/RobEdwards_Birdland_BigBAnd.jpg
END:VEVENT
BEGIN:VEVENT
DTSTART;TZID=America/New_York:20231129T210000
DTEND;TZID=America/New_York:20231130T000000
DTSTAMP:20260419T215655
CREATED:20231018T014741Z
LAST-MODIFIED:20231018T014741Z
UID:10001697-1701291600-1701302400@swing46.nyc
SUMMARY:WED | Swingadelic Big Band
DESCRIPTION:Late Set | Jazz Band\n9:00 – 12:00: Swingadelic Big Band. Swingadelic\, hailed as “Hoboken’s greatest little big band”\, is led by bassist Dave Post. This outfit plays a mix of Swing\, Jump Blues\, vintage rhythm & blues and much more. \nSwingadelic has performed at Lincoln Center’s Midsummer Night Swing\, NJPAC\, and at many festivals\, including Bele Chere (Ashville NC)\, MusikFest (Allentown PA)\, the CD 109 Jazz & Blues Festival (Red Bank\, NJ) and the sanofi-aventis JazzFest (Madison NJ)… \nThe band plays about 100 dates per year and has traveled from Maine to Atlanta. Swingadelic has maintained a residency for eight years at Swing 46 in NYC where they perform weekly.
URL:https://swing46.nyc/event/wed-swingadelic-late-nov-29/
LOCATION:Swing 46\, 349 W 46th Street\, New York\, NY\, 10036\, United States
CATEGORIES:Performances
ATTACH;FMTTYPE=image/jpeg:https://swing46.nyc/wp-content/uploads/2022/07/Swingadelic-by-Paolo-WEB-IMG_4356.jpg
END:VEVENT
BEGIN:VEVENT
DTSTART;TZID=America/New_York:20231130T210000
DTEND;TZID=America/New_York:20231201T000000
DTSTAMP:20260419T215655
CREATED:20231118T225211Z
LAST-MODIFIED:20231118T225211Z
UID:10001782-1701378000-1701388800@swing46.nyc
SUMMARY:THU | Stan Rubin featuring Joe Politi
DESCRIPTION:Late Set | Jazz Band\n9:00 – 12:00: Stan Rubin Orchestra feat. Joe Politi \n“Swing is a form of music that grew out of jazz\,” explained Stan Rubin. “The beauty of big-band swing is that it combines musical structure with improvisation\, the hallmark of jazz\, but swing doesn’t abandon the melody like some modern jazz.” As ruler of his particular kingdom\, Stan built over many decades in a library of swing\, a collection of the arrangements played by the likes of Goodman\, the Dorsey Brothers\, Artie Shaw\, Duke Ellington\, Count Basie\, Harry James and a half-dozen others who swung America from the 1930s into the early 50s. And he continues to keep this brand of music on the menu\, through live appearances by the Stan Rubin Orchestra.
URL:https://swing46.nyc/event/thu-stan-rubin-late-nov-30/
LOCATION:Swing 46\, 349 W 46th Street\, New York\, NY\, 10036\, United States
CATEGORIES:Performances
ATTACH;FMTTYPE=image/jpeg:https://swing46.nyc/wp-content/uploads/2022/07/StanRubinJoePolito_screenshot_SWING46.jpg
END:VEVENT
BEGIN:VEVENT
DTSTART;TZID=America/New_York:20231201T210000
DTEND;TZID=America/New_York:20231202T010000
DTSTAMP:20260419T215655
CREATED:20231114T030809Z
LAST-MODIFIED:20231227T043253Z
UID:10001754-1701464400-1701478800@swing46.nyc
SUMMARY:FRI | George Gee Swing Combo
DESCRIPTION:Late Set | George Gee Swing Combo \n9:00 – 12:00: George Gee Swing Combo spearheaded the modern swing resurgence nearly four decades ago. Headlining regularly at Lincoln Center’s Midsummer Night Swing\, the swing big band was a favorite of famed Savoy swing dancer Frankie Manning having performed a long series of dance events in his honor in New York City\, Boston\, Chicago\, San Francisco and Tokyo! Lindy Hoppers around the country and world are big fans of the George Gee high-energy shows! Also catch them weekly at SWING46 Jazz & Supper in Times Square. \nThis night will feature George’s Combo sized band! \n 
URL:https://swing46.nyc/event/fri-george-gee-late-dec-1/
LOCATION:Swing 46\, 349 W 46th Street\, New York\, NY\, 10036\, United States
CATEGORIES:Performances
ATTACH;FMTTYPE=image/jpeg:https://swing46.nyc/wp-content/uploads/2021/03/GeorgeGeeWIDE-Anna-YatskevichWEB1280.jpg
END:VEVENT
BEGIN:VEVENT
DTSTART;TZID=America/New_York:20231202T210000
DTEND;TZID=America/New_York:20231203T010000
DTSTAMP:20260419T215655
CREATED:20231116T131953Z
LAST-MODIFIED:20231116T131953Z
UID:10001772-1701550800-1701565200@swing46.nyc
SUMMARY:SAT | Bill Malchow
DESCRIPTION:Late Set | Jazz Quartet\n9:00 – 1:00: Bill Malchow Band. Bill Malchow is a pianist and vocalist who plays New Orleans-influenced blues\, jazz\, funk and R&B at clubs and festivals in New York City and New Orleans\, where you might also catch him jamming on the Hammond organ or his Hohner accordion. Whether performing solo or as the Bill Malchow Trio\, or with his larger band\, the Go Cup All Stars\, Bill’s shows are fun. He mixes originals\, standards and New Orleans classics with improvisation\, great storytelling and a wicked sense of humor\, which makes for a good time had by all.
URL:https://swing46.nyc/event/sat-bill-malchow-late-4/
LOCATION:Swing 46\, 349 W 46th Street\, New York\, NY\, 10036\, United States
CATEGORIES:Performances
ATTACH;FMTTYPE=image/jpeg:https://swing46.nyc/wp-content/uploads/2022/07/BillMalshowatNoPiano600.jpg
END:VEVENT
END:VCALENDAR