BEGIN:VCALENDAR
VERSION:2.0
PRODID:-//Swing 46 - ECPv6.15.12//NONSGML v1.0//EN
CALSCALE:GREGORIAN
METHOD:PUBLISH
X-ORIGINAL-URL:https://swing46.nyc
X-WR-CALDESC:Events for Swing 46
REFRESH-INTERVAL;VALUE=DURATION:PT1H
X-Robots-Tag:noindex
X-PUBLISHED-TTL:PT1H
BEGIN:VTIMEZONE
TZID:America/New_York
BEGIN:DAYLIGHT
TZOFFSETFROM:-0500
TZOFFSETTO:-0400
TZNAME:EDT
DTSTART:20220313T070000
END:DAYLIGHT
BEGIN:STANDARD
TZOFFSETFROM:-0400
TZOFFSETTO:-0500
TZNAME:EST
DTSTART:20221106T060000
END:STANDARD
BEGIN:DAYLIGHT
TZOFFSETFROM:-0500
TZOFFSETTO:-0400
TZNAME:EDT
DTSTART:20230312T070000
END:DAYLIGHT
BEGIN:STANDARD
TZOFFSETFROM:-0400
TZOFFSETTO:-0500
TZNAME:EST
DTSTART:20231105T060000
END:STANDARD
BEGIN:DAYLIGHT
TZOFFSETFROM:-0500
TZOFFSETTO:-0400
TZNAME:EDT
DTSTART:20240310T070000
END:DAYLIGHT
BEGIN:STANDARD
TZOFFSETFROM:-0400
TZOFFSETTO:-0500
TZNAME:EST
DTSTART:20241103T060000
END:STANDARD
END:VTIMEZONE
BEGIN:VEVENT
DTSTART;TZID=America/New_York:20231118T210000
DTEND;TZID=America/New_York:20231119T010000
DTSTAMP:20260419T215656
CREATED:20231024T020235Z
LAST-MODIFIED:20231024T020334Z
UID:10001728-1700341200-1700355600@swing46.nyc
SUMMARY:SAT | Swingadelic
DESCRIPTION:Late Set | Jazz Band\n9:00 – 1:00: Swingadelic Big Band \nSwingadelic has performed at Lincoln Center’s Midsummer Night Swing\, NJPAC\, and at many festivals\, including Bele Chere (Ashville NC)\, MusikFest (Allentown PA)\, the CD 109 Jazz & Blues Festival (Red Bank\, NJ)\, and the sanofi-aventis JazzFest (Madison NJ)…The band plays about 100 dates per year and has traveled from Maine to Atlanta. Swingadelic has maintained a residency for eight years at Swing 46 in NYC where they perform weekly.
URL:https://swing46.nyc/event/sat-swingadelic-late-nov-18/
LOCATION:Swing 46\, 349 W 46th Street\, New York\, NY\, 10036\, United States
CATEGORIES:Performances
ATTACH;FMTTYPE=image/jpeg:https://swing46.nyc/wp-content/uploads/2023/03/Swingadelic-by-PaoloWEB1080IMG_4353.jpg
END:VEVENT
BEGIN:VEVENT
DTSTART;TZID=America/New_York:20231119T210000
DTEND;TZID=America/New_York:20231120T000000
DTSTAMP:20260419T215656
CREATED:20231018T015622Z
LAST-MODIFIED:20231018T015622Z
UID:10001704-1700427600-1700438400@swing46.nyc
SUMMARY:SUN | George Gee Swing Orchestra
DESCRIPTION:Late Set | Jazz Band\n9:00 – 12:00: George Gee Swing Orchestra spearheaded the modern swing resurgence nearly four decades ago. Headlining regularly at Lincoln Center’s Midsummer Night Swing\, the swing big band was a favorite of famed Savoy swing dancer Frankie Manning having performed a long series of dance events in his honor in New York City\, Boston\, Chicago\, San Francisco and Tokyo! Lindy Hoppers around the country and world are big fans of the George Gee high-energy shows! Also catch them weekly at SWING46 Jazz & Supper in Times Square.
URL:https://swing46.nyc/event/sun-george-gee-late-nov-19/
LOCATION:Swing 46\, 349 W 46th Street\, New York\, NY\, 10036\, United States
CATEGORIES:Performances
ATTACH;FMTTYPE=image/jpeg:https://swing46.nyc/wp-content/uploads/2021/03/GeorgeGeeWIDE-Anna-YatskevichWEB1280.jpg
END:VEVENT
BEGIN:VEVENT
DTSTART;TZID=America/New_York:20231121T210000
DTEND;TZID=America/New_York:20231122T000000
DTSTAMP:20260419T215656
CREATED:20231018T013358Z
LAST-MODIFIED:20231018T013508Z
UID:10001685-1700600400-1700611200@swing46.nyc
SUMMARY:TUE | Rob Edwards Big Band
DESCRIPTION:Late Set | Jazz Band\n9:00 – 12:00: Rob Edwards Big Band \nRob Edwards brings his powerhouse Big Band to Swing 46 and features marvelously talented special guest vocalists. \nBorn in West Palm Beach\, FL\, Robert completed his schooling at the Juilliard school and soon after joined the Roy Hargrove Big Band\, Dizzy Gillespie All-Star Big Band and Jimmy Heath’s Big Band.  John Lee\, Leader of the Dizzy Gillespie All-Star Band\, hails Robert as\, “A future giant of jazz trombone.”  His first record is titled “Sound Business.”
URL:https://swing46.nyc/event/tue-rob-edwards-late-nov-21/
LOCATION:Swing 46\, 349 W 46th Street\, New York\, NY\, 10036\, United States
CATEGORIES:Performances
ATTACH;FMTTYPE=image/jpeg:https://swing46.nyc/wp-content/uploads/2022/07/RobEdwards_Birdland_BigBAnd.jpg
END:VEVENT
BEGIN:VEVENT
DTSTART;TZID=America/New_York:20231122T210000
DTEND;TZID=America/New_York:20231123T000000
DTSTAMP:20260419T215656
CREATED:20231018T014612Z
LAST-MODIFIED:20231018T014709Z
UID:10001696-1700686800-1700697600@swing46.nyc
SUMMARY:WED | Swingadelic Big Band
DESCRIPTION:Late Set | Jazz Band\n9:00 – 12:00: Swingadelic Big Band. Swingadelic\, hailed as “Hoboken’s greatest little big band”\, is led by bassist Dave Post. This outfit plays a mix of Swing\, Jump Blues\, vintage rhythm & blues and much more. \nSwingadelic has performed at Lincoln Center’s Midsummer Night Swing\, NJPAC\, and at many festivals\, including Bele Chere (Ashville NC)\, MusikFest (Allentown PA)\, the CD 109 Jazz & Blues Festival (Red Bank\, NJ) and the sanofi-aventis JazzFest (Madison NJ)… \nThe band plays about 100 dates per year and has traveled from Maine to Atlanta. Swingadelic has maintained a residency for eight years at Swing 46 in NYC where they perform weekly.
URL:https://swing46.nyc/event/wed-swingadelic-late-nov-22/
LOCATION:Swing 46\, 349 W 46th Street\, New York\, NY\, 10036\, United States
CATEGORIES:Performances
ATTACH;FMTTYPE=image/jpeg:https://swing46.nyc/wp-content/uploads/2022/07/Swingadelic-by-Paolo-WEB-IMG_4356.jpg
END:VEVENT
BEGIN:VEVENT
DTSTART;TZID=America/New_York:20231124T210000
DTEND;TZID=America/New_York:20231125T010000
DTSTAMP:20260419T215656
CREATED:20231024T020604Z
LAST-MODIFIED:20231024T020629Z
UID:10001729-1700859600-1700874000@swing46.nyc
SUMMARY:FRI | TKO Party Band
DESCRIPTION:Late Set | Live Music\n9:00 – 1:00: TKO PARTY BAND featuring Timatha Kasten \nTimatha Kasten has been performing for fortune 500 corporate entertainment worldwide for over 20 years.  Timatha’s energy and passion for delivering high quality entertainment with any of her shows\, bands or vintage style acts is second to none and is the reason she created TKO Music Entertainment. Timatha has performed for Presidents George H. W. Bush and President George W. Bush\, and is a hit celebrity impersonator for shows “Legends In Concert”\, “The Tonight Show with David Letterman” and “Cavalcade of Stars”.
URL:https://swing46.nyc/event/fri-tko-late-nov-24/
LOCATION:Swing 46\, 349 W 46th Street\, New York\, NY\, 10036\, United States
CATEGORIES:Performances
ATTACH;FMTTYPE=image/jpeg:https://swing46.nyc/wp-content/uploads/2023/03/Timatha-Kasten-TKO-PARTY-BAND-promo.jpg
END:VEVENT
BEGIN:VEVENT
DTSTART;TZID=America/New_York:20231125T210000
DTEND;TZID=America/New_York:20231126T010000
DTSTAMP:20260419T215656
CREATED:20231023T031242Z
LAST-MODIFIED:20231023T031242Z
UID:10001725-1700946000-1700960400@swing46.nyc
SUMMARY:SAT | Mitch Woods & His Rocket 88s
DESCRIPTION:Late Set | Live Music\n9:00 – 1:00: Mitch Woods and His Rocket 88s have been the torchbearers of a great American blues musical heritage\, not for three years but three decades. Taking their inspiration from the great jump n’ boogie outfits of the late 40s and early 50s\, they breathe fresh life into the music that gave birth to rock n’roll. Woods styled his group after the jumpin’ n’ jivin’\, shoutin’ n’ honkin’\, pumpin’ n’ poundin’ bands of Louis Jordan\, Wynonie Harris\, Joe and Jimmy Liggins\, Amos Milburn\, and Roy Milton. Adding a healthy dose of New Orleans rhythm and blues\, piledrivin’ piano\, and some of his own contemporary playful lyrics\, Woods and His Rocket 88s forge their own brand of music they call “rock-a-boogie.”
URL:https://swing46.nyc/event/sat-mitch-woods-late/
LOCATION:Swing 46\, 349 W 46th Street\, New York\, NY\, 10036\, United States
CATEGORIES:Performances
ATTACH;FMTTYPE=image/jpeg:https://swing46.nyc/wp-content/uploads/2023/10/MitchWoods_Red_VintageCar.jpg
END:VEVENT
END:VCALENDAR