BEGIN:VCALENDAR
VERSION:2.0
PRODID:-//Swing 46 - ECPv6.15.12//NONSGML v1.0//EN
CALSCALE:GREGORIAN
METHOD:PUBLISH
X-ORIGINAL-URL:https://swing46.nyc
X-WR-CALDESC:Events for Swing 46
REFRESH-INTERVAL;VALUE=DURATION:PT1H
X-Robots-Tag:noindex
X-PUBLISHED-TTL:PT1H
BEGIN:VTIMEZONE
TZID:America/New_York
BEGIN:DAYLIGHT
TZOFFSETFROM:-0500
TZOFFSETTO:-0400
TZNAME:EDT
DTSTART:20240310T070000
END:DAYLIGHT
BEGIN:STANDARD
TZOFFSETFROM:-0400
TZOFFSETTO:-0500
TZNAME:EST
DTSTART:20241103T060000
END:STANDARD
BEGIN:DAYLIGHT
TZOFFSETFROM:-0500
TZOFFSETTO:-0400
TZNAME:EDT
DTSTART:20250309T070000
END:DAYLIGHT
BEGIN:STANDARD
TZOFFSETFROM:-0400
TZOFFSETTO:-0500
TZNAME:EST
DTSTART:20251102T060000
END:STANDARD
BEGIN:DAYLIGHT
TZOFFSETFROM:-0500
TZOFFSETTO:-0400
TZNAME:EDT
DTSTART:20260308T070000
END:DAYLIGHT
BEGIN:STANDARD
TZOFFSETFROM:-0400
TZOFFSETTO:-0500
TZNAME:EST
DTSTART:20261101T060000
END:STANDARD
END:VTIMEZONE
BEGIN:VEVENT
DTSTART;TZID=America/New_York:20250329T210000
DTEND;TZID=America/New_York:20250330T010000
DTSTAMP:20260419T115333
CREATED:20250223T150327Z
LAST-MODIFIED:20250223T150327Z
UID:10002686-1743282000-1743296400@swing46.nyc
SUMMARY:TKO Swingin' Dance Party w Timatha Kasten SAT
DESCRIPTION:Late Set | Live Music\n9:00 – 1:00: TKO Swingin’ Dance Party Band featuring Timatha Kasten. Timatha Kasten has been performing for fortune 500 corporate entertainment worldwide for over 20 years. Timatha’s energy and passion for delivering high quality entertainment with any of her shows\, bands or vintage style acts is second to none and is the reason she created TKO Music Entertainment. Timatha has performed for Presidents George H. W. Bush and President George W. Bush\, and is a hit celebrity impersonator for shows “Legends In Concert\,” “The Tonight Show with David Letterman\,” and “Cavalcade of Stars.” visit our EventBrite page if you don’t see ticket window below. \nYOUTUBE LINK
URL:https://swing46.nyc/event/sat-tko-swingin-late-mar29/
LOCATION:Swing 46\, 349 W 46th Street\, New York\, NY\, 10036\, United States
CATEGORIES:Performances
ATTACH;FMTTYPE=image/jpeg:https://swing46.nyc/wp-content/uploads/2023/03/Timatha-Kasten-TKO-PARTY-BAND-promo.jpg
END:VEVENT
END:VCALENDAR