BEGIN:VCALENDAR
VERSION:2.0
PRODID:-//Swing 46 - ECPv6.15.12//NONSGML v1.0//EN
CALSCALE:GREGORIAN
METHOD:PUBLISH
X-WR-CALNAME:Swing 46
X-ORIGINAL-URL:https://swing46.nyc
X-WR-CALDESC:Events for Swing 46
REFRESH-INTERVAL;VALUE=DURATION:PT1H
X-Robots-Tag:noindex
X-PUBLISHED-TTL:PT1H
BEGIN:VTIMEZONE
TZID:America/New_York
BEGIN:DAYLIGHT
TZOFFSETFROM:-0500
TZOFFSETTO:-0400
TZNAME:EDT
DTSTART:20230312T070000
END:DAYLIGHT
BEGIN:STANDARD
TZOFFSETFROM:-0400
TZOFFSETTO:-0500
TZNAME:EST
DTSTART:20231105T060000
END:STANDARD
BEGIN:DAYLIGHT
TZOFFSETFROM:-0500
TZOFFSETTO:-0400
TZNAME:EDT
DTSTART:20240310T070000
END:DAYLIGHT
BEGIN:STANDARD
TZOFFSETFROM:-0400
TZOFFSETTO:-0500
TZNAME:EST
DTSTART:20241103T060000
END:STANDARD
BEGIN:DAYLIGHT
TZOFFSETFROM:-0500
TZOFFSETTO:-0400
TZNAME:EDT
DTSTART:20250309T070000
END:DAYLIGHT
BEGIN:STANDARD
TZOFFSETFROM:-0400
TZOFFSETTO:-0500
TZNAME:EST
DTSTART:20251102T060000
END:STANDARD
END:VTIMEZONE
BEGIN:VEVENT
DTSTART;TZID=America/New_York:20240120T210000
DTEND;TZID=America/New_York:20240121T010000
DTSTAMP:20260419T183340
CREATED:20231228T023232Z
LAST-MODIFIED:20240108T030547Z
UID:10001833-1705784400-1705798800@swing46.nyc
SUMMARY:SAT | Matthew Piazzi & the Debonairs
DESCRIPTION:Early Set | Jazz Band\n9:00 – 1:00: MATTHEW PIAZZI and The DEBONAIRS are a 1950s pop group\, bringing you all the very best in vintage music\, style and American nostalgia. Lead vocalist Matthew Piazzi was a TOP 10 finalist on AMERICA’S GOT TALENT as a witty celebrity voice impressionist and comedian.
URL:https://swing46.nyc/event/sat-matthew-piazzi-late/
LOCATION:Swing 46\, 349 W 46th Street\, New York\, NY\, 10036\, United States
CATEGORIES:Performances
ATTACH;FMTTYPE=image/jpeg:https://swing46.nyc/wp-content/uploads/2023/12/Matthew-Piazzi-The-Debonairs-2layer-SFX-IMG_6154.jpg
END:VEVENT
END:VCALENDAR