BEGIN:VCALENDAR
VERSION:2.0
PRODID:-//Swing 46 - ECPv6.15.12//NONSGML v1.0//EN
CALSCALE:GREGORIAN
METHOD:PUBLISH
X-WR-CALNAME:Swing 46
X-ORIGINAL-URL:https://swing46.nyc
X-WR-CALDESC:Events for Swing 46
REFRESH-INTERVAL;VALUE=DURATION:PT1H
X-Robots-Tag:noindex
X-PUBLISHED-TTL:PT1H
BEGIN:VTIMEZONE
TZID:America/New_York
BEGIN:DAYLIGHT
TZOFFSETFROM:-0500
TZOFFSETTO:-0400
TZNAME:EDT
DTSTART:20220313T070000
END:DAYLIGHT
BEGIN:STANDARD
TZOFFSETFROM:-0400
TZOFFSETTO:-0500
TZNAME:EST
DTSTART:20221106T060000
END:STANDARD
BEGIN:DAYLIGHT
TZOFFSETFROM:-0500
TZOFFSETTO:-0400
TZNAME:EDT
DTSTART:20230312T070000
END:DAYLIGHT
BEGIN:STANDARD
TZOFFSETFROM:-0400
TZOFFSETTO:-0500
TZNAME:EST
DTSTART:20231105T060000
END:STANDARD
BEGIN:DAYLIGHT
TZOFFSETFROM:-0500
TZOFFSETTO:-0400
TZNAME:EDT
DTSTART:20240310T070000
END:DAYLIGHT
BEGIN:STANDARD
TZOFFSETFROM:-0400
TZOFFSETTO:-0500
TZNAME:EST
DTSTART:20241103T060000
END:STANDARD
END:VTIMEZONE
BEGIN:VEVENT
DTSTART;TZID=America/New_York:20231223T210000
DTEND;TZID=America/New_York:20231224T010000
DTSTAMP:20260419T195947
CREATED:20231116T134845Z
LAST-MODIFIED:20231116T134845Z
UID:10001778-1703365200-1703379600@swing46.nyc
SUMMARY:SAT | Matthew Piazzi & The Debonairs
DESCRIPTION:Late Set | Live Music\n9:00 – 1:00: MATTHEW PIAZZI and The DEBONAIRS are a 1950s pop group\, bringing you all the very best in vintage music\, style and American nostalgia. Lead vocalist Matthew Piazzi was a TOP 10 finalist on AMERICA’S GOT TALENT as a witty celebrity voice impressionist and comedian. \nLead Guitarist/Vocalist Nick Palumbo is a musical prodigy who played a significant role in the re-birth of Swing\, Jump Blues & Root’s Rock n’ Roll during the 1990s. Together\, they take you on an all American nostalgic journey back to an era of romance and the birth of Rock N’ Roll\, covering a collection of 1950s rhythm & blues\, jump blues\, swing\, boogie woogie\, cha cha and more.
URL:https://swing46.nyc/event/sat-matthew-piazzi-debonairs-late-2/
LOCATION:Swing 46\, 349 W 46th Street\, New York\, NY\, 10036\, United States
CATEGORIES:Performances
ATTACH;FMTTYPE=image/jpeg:https://swing46.nyc/wp-content/uploads/2023/05/Matthew-Piazzi-Buzz-SW46-web.jpg
END:VEVENT
END:VCALENDAR