BEGIN:VCALENDAR
VERSION:2.0
PRODID:-//Swing 46 - ECPv6.15.12//NONSGML v1.0//EN
CALSCALE:GREGORIAN
METHOD:PUBLISH
X-WR-CALNAME:Swing 46
X-ORIGINAL-URL:https://swing46.nyc
X-WR-CALDESC:Events for Swing 46
REFRESH-INTERVAL;VALUE=DURATION:PT1H
X-Robots-Tag:noindex
X-PUBLISHED-TTL:PT1H
BEGIN:VTIMEZONE
TZID:America/New_York
BEGIN:DAYLIGHT
TZOFFSETFROM:-0500
TZOFFSETTO:-0400
TZNAME:EDT
DTSTART:20220313T070000
END:DAYLIGHT
BEGIN:STANDARD
TZOFFSETFROM:-0400
TZOFFSETTO:-0500
TZNAME:EST
DTSTART:20221106T060000
END:STANDARD
BEGIN:DAYLIGHT
TZOFFSETFROM:-0500
TZOFFSETTO:-0400
TZNAME:EDT
DTSTART:20230312T070000
END:DAYLIGHT
BEGIN:STANDARD
TZOFFSETFROM:-0400
TZOFFSETTO:-0500
TZNAME:EST
DTSTART:20231105T060000
END:STANDARD
BEGIN:DAYLIGHT
TZOFFSETFROM:-0500
TZOFFSETTO:-0400
TZNAME:EDT
DTSTART:20240310T070000
END:DAYLIGHT
BEGIN:STANDARD
TZOFFSETFROM:-0400
TZOFFSETTO:-0500
TZNAME:EST
DTSTART:20241103T060000
END:STANDARD
END:VTIMEZONE
BEGIN:VEVENT
DTSTART;TZID=America/New_York:20231117T210000
DTEND;TZID=America/New_York:20231118T010000
DTSTAMP:20260419T215527
CREATED:20231023T021911Z
LAST-MODIFIED:20231023T021911Z
UID:10001723-1700254800-1700269200@swing46.nyc
SUMMARY:FRI | SWING 46 All-Star Dance Band
DESCRIPTION:Late Set | Jazz Band\n9:00 – 1:00: SWING 46 All-Star Dance Band\nThe Swing 46 All-Star Dance Band captures the best of Swing\, Jump Blues\, Boogie Woogie\, 1950s Rhythm & Blues\, & Root’s Rock n’ Roll. Their collection is inspired by the styles that dancers love! PLUS it’s another OLD SCHOOL DANCE night! Our PROS will be in the HOUSE Leading some popular LINE DANCES and TEACHING partnering!
URL:https://swing46.nyc/event/fri-all-star-dance-band-late-2/
LOCATION:Swing 46\, 349 W 46th Street\, New York\, NY\, 10036\, United States
CATEGORIES:Performances
ATTACH;FMTTYPE=image/jpeg:https://swing46.nyc/wp-content/uploads/2023/10/SWING46-All-Star-Dance-Band-NOV-2023.jpg
END:VEVENT
END:VCALENDAR