BEGIN:VCALENDAR
VERSION:2.0
PRODID:-//Swing 46 - ECPv6.15.12//NONSGML v1.0//EN
CALSCALE:GREGORIAN
METHOD:PUBLISH
X-WR-CALNAME:Swing 46
X-ORIGINAL-URL:https://swing46.nyc
X-WR-CALDESC:Events for Swing 46
REFRESH-INTERVAL;VALUE=DURATION:PT1H
X-Robots-Tag:noindex
X-PUBLISHED-TTL:PT1H
BEGIN:VTIMEZONE
TZID:America/New_York
BEGIN:DAYLIGHT
TZOFFSETFROM:-0500
TZOFFSETTO:-0400
TZNAME:EDT
DTSTART:20220313T070000
END:DAYLIGHT
BEGIN:STANDARD
TZOFFSETFROM:-0400
TZOFFSETTO:-0500
TZNAME:EST
DTSTART:20221106T060000
END:STANDARD
BEGIN:DAYLIGHT
TZOFFSETFROM:-0500
TZOFFSETTO:-0400
TZNAME:EDT
DTSTART:20230312T070000
END:DAYLIGHT
BEGIN:STANDARD
TZOFFSETFROM:-0400
TZOFFSETTO:-0500
TZNAME:EST
DTSTART:20231105T060000
END:STANDARD
BEGIN:DAYLIGHT
TZOFFSETFROM:-0500
TZOFFSETTO:-0400
TZNAME:EDT
DTSTART:20240310T070000
END:DAYLIGHT
BEGIN:STANDARD
TZOFFSETFROM:-0400
TZOFFSETTO:-0500
TZNAME:EST
DTSTART:20241103T060000
END:STANDARD
END:VTIMEZONE
BEGIN:VEVENT
DTSTART;TZID=America/New_York:20231001T210000
DTEND;TZID=America/New_York:20231002T000000
DTSTAMP:20260419T231229
CREATED:20230920T004359Z
LAST-MODIFIED:20230920T004359Z
UID:10001647-1696194000-1696204800@swing46.nyc
SUMMARY:SUN | George Gee Swing Orchestra
DESCRIPTION:Late Set | Jazz Band\n9:00 – 12:00: George Gee Swing Orchestra spearheaded the modern swing resurgence nearly four decades ago. Headlining regularly at Lincoln Center’s Midsummer Night Swing\, the swing big band was a favorite of famed Savoy swing dancer Frankie Manning having performed a long series of dance events in his honor in New York City\, Boston\, Chicago\, San Francisco and Tokyo! Lindy Hoppers around the country and world are big fans of the George Gee high-energy shows! Also catch them weekly at SWING46 Jazz & Supper in Times Square.
URL:https://swing46.nyc/event/sun-george-gee-late-oct-1/
LOCATION:Swing 46\, 349 W 46th Street\, New York\, NY\, 10036\, United States
CATEGORIES:Performances
ATTACH;FMTTYPE=image/jpeg:https://swing46.nyc/wp-content/uploads/2021/03/GeorgeGeeWIDE-Anna-YatskevichWEB1280.jpg
END:VEVENT
BEGIN:VEVENT
DTSTART;TZID=America/New_York:20231003T210000
DTEND;TZID=America/New_York:20231004T000000
DTSTAMP:20260419T231229
CREATED:20230918T005328Z
LAST-MODIFIED:20230918T005431Z
UID:10001626-1696366800-1696377600@swing46.nyc
SUMMARY:TUE | Rob Edwards Big Band
DESCRIPTION:Late Set | Jazz Band\n9:00 – 12:00: Rob Edwards Big Band \nRob Edwards brings his powerhouse Big Band to Swing 46 and features marvelously talented special guest vocalists. \nBorn in West Palm Beach\, FL\, Robert completed his schooling at the Juilliard school and soon after joined the Roy Hargrove Big Band\, Dizzy Gillespie All-Star Big Band and Jimmy Heath’s Big Band.  John Lee\, Leader of the Dizzy Gillespie All-Star Band\, hails Robert as\, “A future giant of jazz trombone.”  His first record is titled “Sound Business.”
URL:https://swing46.nyc/event/tue-rob-edwards-late-oct-3/
LOCATION:Swing 46\, 349 W 46th Street\, New York\, NY\, 10036\, United States
CATEGORIES:Performances
ATTACH;FMTTYPE=image/jpeg:https://swing46.nyc/wp-content/uploads/2022/07/RobEdwards_Birdland_BigBAnd.jpg
END:VEVENT
BEGIN:VEVENT
DTSTART;TZID=America/New_York:20231004T210000
DTEND;TZID=America/New_York:20231005T000000
DTSTAMP:20260419T231229
CREATED:20230918T011541Z
LAST-MODIFIED:20230918T011541Z
UID:10001635-1696453200-1696464000@swing46.nyc
SUMMARY:WED | Swingadelic Big Band
DESCRIPTION:Late Set | Jazz Band\n9:00 – 12:00: Swingadelic Big Band. Swingadelic\, hailed as “Hoboken’s greatest little big band”\, is led by bassist Dave Post. This outfit plays a mix of Swing\, Jump Blues\, vintage rhythm & blues and much more. \nSwingadelic has performed at Lincoln Center’s Midsummer Night Swing\, NJPAC\, and at many festivals\, including Bele Chere (Ashville NC)\, MusikFest (Allentown PA)\, the CD 109 Jazz & Blues Festival (Red Bank\, NJ) and the sanofi-aventis JazzFest (Madison NJ)… \nThe band plays about 100 dates per year and has traveled from Maine to Atlanta. Swingadelic has maintained a residency for eight years at Swing 46 in NYC where they perform weekly.
URL:https://swing46.nyc/event/wed-swingadelic-late-oct-4/
LOCATION:Swing 46\, 349 W 46th Street\, New York\, NY\, 10036\, United States
CATEGORIES:Performances
ATTACH;FMTTYPE=image/jpeg:https://swing46.nyc/wp-content/uploads/2022/07/Swingadelic-by-Paolo-WEB-IMG_4356.jpg
END:VEVENT
BEGIN:VEVENT
DTSTART;TZID=America/New_York:20231005T210000
DTEND;TZID=America/New_York:20231006T000000
DTSTAMP:20260419T231229
CREATED:20230918T012151Z
LAST-MODIFIED:20230918T012151Z
UID:10001639-1696539600-1696550400@swing46.nyc
SUMMARY:THU | Stan Rubin featuring Joe Politi
DESCRIPTION:Late Set | Jazz Band\n9:00 – 12:00: Stan Rubin Orchestra feat. Joe Politi \n“Swing is a form of music that grew out of jazz\,” explained Stan Rubin. “The beauty of big-band swing is that it combines musical structure with improvisation\, the hallmark of jazz\, but swing doesn’t abandon the melody like some modern jazz.” As ruler of his particular kingdom\, Stan built over many decades in a library of swing\, a collection of the arrangements played by the likes of Goodman\, the Dorsey Brothers\, Artie Shaw\, Duke Ellington\, Count Basie\, Harry James and a half-dozen others who swung America from the 1930s into the early 50s. And he continues to keep this brand of music on the menu\, through live appearances by the Stan Rubin Orchestra.
URL:https://swing46.nyc/event/thu-stan-rubin-late-oct-5/
LOCATION:Swing 46\, 349 W 46th Street\, New York\, NY\, 10036\, United States
CATEGORIES:Performances
ATTACH;FMTTYPE=image/jpeg:https://swing46.nyc/wp-content/uploads/2022/07/StanRubinJoePolito_screenshot_SWING46.jpg
END:VEVENT
BEGIN:VEVENT
DTSTART;TZID=America/New_York:20231007T210000
DTEND;TZID=America/New_York:20231008T010000
DTSTAMP:20260419T231229
CREATED:20230928T013923Z
LAST-MODIFIED:20230928T013923Z
UID:10001673-1696712400-1696726800@swing46.nyc
SUMMARY:SAT | Bill Malchow
DESCRIPTION:Late Set | Jazz Quartet\n9:00 – 1:00: Bill Malchow Band \nBill Malchow is a pianist and vocalist who plays New Orleans-influenced blues\, jazz\, funk and R&B at clubs and festivals in New York City and New Orleans\, where you might also catch him jamming on the Hammond organ or his Hohner accordion. Whether performing solo or as the Bill Malchow Trio\, or with his larger band\, the Go Cup All Stars\, Bill’s shows are fun. He mixes originals\, standards and New Orleans classics with improvisation\, great storytelling and a wicked sense of humor\, which makes for a good time had by all.
URL:https://swing46.nyc/event/sat-bill-malchow-late-oct-7/
LOCATION:Swing 46\, 349 W 46th Street\, New York\, NY\, 10036\, United States
CATEGORIES:Performances
ATTACH;FMTTYPE=image/jpeg:https://swing46.nyc/wp-content/uploads/2022/07/BillMalshowatNoPiano600.jpg
END:VEVENT
BEGIN:VEVENT
DTSTART;TZID=America/New_York:20231008T210000
DTEND;TZID=America/New_York:20231009T000000
DTSTAMP:20260419T231229
CREATED:20230920T004458Z
LAST-MODIFIED:20230920T004458Z
UID:10001648-1696798800-1696809600@swing46.nyc
SUMMARY:SUN | George Gee Swing Orchestra
DESCRIPTION:Late Set | Jazz Band\n9:00 – 12:00: George Gee Swing Orchestra spearheaded the modern swing resurgence nearly four decades ago. Headlining regularly at Lincoln Center’s Midsummer Night Swing\, the swing big band was a favorite of famed Savoy swing dancer Frankie Manning having performed a long series of dance events in his honor in New York City\, Boston\, Chicago\, San Francisco and Tokyo! Lindy Hoppers around the country and world are big fans of the George Gee high-energy shows! Also catch them weekly at SWING46 Jazz & Supper in Times Square.
URL:https://swing46.nyc/event/sun-george-gee-late-oct-8/
LOCATION:Swing 46\, 349 W 46th Street\, New York\, NY\, 10036\, United States
CATEGORIES:Performances
ATTACH;FMTTYPE=image/jpeg:https://swing46.nyc/wp-content/uploads/2021/03/GeorgeGeeWIDE-Anna-YatskevichWEB1280.jpg
END:VEVENT
BEGIN:VEVENT
DTSTART;TZID=America/New_York:20231010T210000
DTEND;TZID=America/New_York:20231011T000000
DTSTAMP:20260419T231229
CREATED:20230918T005508Z
LAST-MODIFIED:20230918T005616Z
UID:10001627-1696971600-1696982400@swing46.nyc
SUMMARY:TUE | Rob Edwards Big Band
DESCRIPTION:Late Set | Jazz Band\n9:00 – 12:00: Rob Edwards Big Band \nRob Edwards brings his powerhouse Big Band to Swing 46 and features marvelously talented special guest vocalists. \nBorn in West Palm Beach\, FL\, Robert completed his schooling at the Juilliard school and soon after joined the Roy Hargrove Big Band\, Dizzy Gillespie All-Star Big Band and Jimmy Heath’s Big Band.  John Lee\, Leader of the Dizzy Gillespie All-Star Band\, hails Robert as\, “A future giant of jazz trombone.”  His first record is titled “Sound Business.”
URL:https://swing46.nyc/event/tue-rob-edwards-late-oct-10/
LOCATION:Swing 46\, 349 W 46th Street\, New York\, NY\, 10036\, United States
CATEGORIES:Performances
ATTACH;FMTTYPE=image/jpeg:https://swing46.nyc/wp-content/uploads/2022/07/RobEdwards_Birdland_BigBAnd.jpg
END:VEVENT
BEGIN:VEVENT
DTSTART;TZID=America/New_York:20231011T210000
DTEND;TZID=America/New_York:20231012T000000
DTSTAMP:20260419T231229
CREATED:20230918T011655Z
LAST-MODIFIED:20230918T011655Z
UID:10001636-1697058000-1697068800@swing46.nyc
SUMMARY:WED | Swingadelic Big Band
DESCRIPTION:Late Set | Jazz Band\n9:00 – 12:00: Swingadelic Big Band. Swingadelic\, hailed as “Hoboken’s greatest little big band”\, is led by bassist Dave Post. This outfit plays a mix of Swing\, Jump Blues\, vintage rhythm & blues and much more. \nSwingadelic has performed at Lincoln Center’s Midsummer Night Swing\, NJPAC\, and at many festivals\, including Bele Chere (Ashville NC)\, MusikFest (Allentown PA)\, the CD 109 Jazz & Blues Festival (Red Bank\, NJ) and the sanofi-aventis JazzFest (Madison NJ)… \nThe band plays about 100 dates per year and has traveled from Maine to Atlanta. Swingadelic has maintained a residency for eight years at Swing 46 in NYC where they perform weekly.
URL:https://swing46.nyc/event/wed-swingadelic-late-oct-11/
LOCATION:Swing 46\, 349 W 46th Street\, New York\, NY\, 10036\, United States
CATEGORIES:Performances
ATTACH;FMTTYPE=image/jpeg:https://swing46.nyc/wp-content/uploads/2022/07/Swingadelic-by-Paolo-WEB-IMG_4356.jpg
END:VEVENT
BEGIN:VEVENT
DTSTART;TZID=America/New_York:20231012T210000
DTEND;TZID=America/New_York:20231013T000000
DTSTAMP:20260419T231229
CREATED:20230918T012251Z
LAST-MODIFIED:20230918T012251Z
UID:10001640-1697144400-1697155200@swing46.nyc
SUMMARY:THU | Stan Rubin featuring Joe Politi
DESCRIPTION:Late Set | Jazz Band\n9:00 – 12:00: Stan Rubin Orchestra feat. Joe Politi \n“Swing is a form of music that grew out of jazz\,” explained Stan Rubin. “The beauty of big-band swing is that it combines musical structure with improvisation\, the hallmark of jazz\, but swing doesn’t abandon the melody like some modern jazz.” As ruler of his particular kingdom\, Stan built over many decades in a library of swing\, a collection of the arrangements played by the likes of Goodman\, the Dorsey Brothers\, Artie Shaw\, Duke Ellington\, Count Basie\, Harry James and a half-dozen others who swung America from the 1930s into the early 50s. And he continues to keep this brand of music on the menu\, through live appearances by the Stan Rubin Orchestra.
URL:https://swing46.nyc/event/thu-stan-rubin-late-oct-12/
LOCATION:Swing 46\, 349 W 46th Street\, New York\, NY\, 10036\, United States
CATEGORIES:Performances
ATTACH;FMTTYPE=image/jpeg:https://swing46.nyc/wp-content/uploads/2022/07/StanRubinJoePolito_screenshot_SWING46.jpg
END:VEVENT
BEGIN:VEVENT
DTSTART;TZID=America/New_York:20231013T210000
DTEND;TZID=America/New_York:20231014T010000
DTSTAMP:20260419T231229
CREATED:20230927T020004Z
LAST-MODIFIED:20230927T020004Z
UID:10001668-1697230800-1697245200@swing46.nyc
SUMMARY:FRI | Bill Malchow
DESCRIPTION:Late Set | Jazz Quartet\n9:00 – 1:00: Bill Malchow Band \nBill Malchow is a pianist and vocalist who plays New Orleans-influenced blues\, jazz\, funk and R&B at clubs and festivals in New York City and New Orleans\, where you might also catch him jamming on the Hammond organ or his Hohner accordion. Whether performing solo or as the Bill Malchow Trio\, or with his larger band\, the Go Cup All Stars\, Bill’s shows are fun. He mixes originals\, standards and New Orleans classics with improvisation\, great storytelling and a wicked sense of humor\, which makes for a good time had by all.
URL:https://swing46.nyc/event/fri-bill-malchow-late-oct-13/
LOCATION:Swing 46\, 349 W 46th Street\, New York\, NY\, 10036\, United States
CATEGORIES:Performances
ATTACH;FMTTYPE=image/jpeg:https://swing46.nyc/wp-content/uploads/2022/07/BillMalshowatNoPiano600.jpg
END:VEVENT
BEGIN:VEVENT
DTSTART;TZID=America/New_York:20231015T210000
DTEND;TZID=America/New_York:20231016T000000
DTSTAMP:20260419T231229
CREATED:20230920T004545Z
LAST-MODIFIED:20230920T004545Z
UID:10001649-1697403600-1697414400@swing46.nyc
SUMMARY:SUN | George Gee Swing Orchestra
DESCRIPTION:Late Set | Jazz Band\n9:00 – 12:00: George Gee Swing Orchestra spearheaded the modern swing resurgence nearly four decades ago. Headlining regularly at Lincoln Center’s Midsummer Night Swing\, the swing big band was a favorite of famed Savoy swing dancer Frankie Manning having performed a long series of dance events in his honor in New York City\, Boston\, Chicago\, San Francisco and Tokyo! Lindy Hoppers around the country and world are big fans of the George Gee high-energy shows! Also catch them weekly at SWING46 Jazz & Supper in Times Square.
URL:https://swing46.nyc/event/sun-george-gee-late-oct-15/
LOCATION:Swing 46\, 349 W 46th Street\, New York\, NY\, 10036\, United States
CATEGORIES:Performances
ATTACH;FMTTYPE=image/jpeg:https://swing46.nyc/wp-content/uploads/2021/03/GeorgeGeeWIDE-Anna-YatskevichWEB1280.jpg
END:VEVENT
BEGIN:VEVENT
DTSTART;TZID=America/New_York:20231017T210000
DTEND;TZID=America/New_York:20231018T000000
DTSTAMP:20260419T231229
CREATED:20230918T005714Z
LAST-MODIFIED:20230918T005848Z
UID:10001628-1697576400-1697587200@swing46.nyc
SUMMARY:TUE | Rob Edwards Big Band
DESCRIPTION:Late Set | Jazz Band\n9:00 – 12:00: Rob Edwards Big Band \nRob Edwards brings his powerhouse Big Band to Swing 46 and features marvelously talented special guest vocalists. \nBorn in West Palm Beach\, FL\, Robert completed his schooling at the Juilliard school and soon after joined the Roy Hargrove Big Band\, Dizzy Gillespie All-Star Big Band and Jimmy Heath’s Big Band.  John Lee\, Leader of the Dizzy Gillespie All-Star Band\, hails Robert as\, “A future giant of jazz trombone.”  His first record is titled “Sound Business.”
URL:https://swing46.nyc/event/tue-rob-edwards-late-oct-17/
LOCATION:Swing 46\, 349 W 46th Street\, New York\, NY\, 10036\, United States
CATEGORIES:Performances
ATTACH;FMTTYPE=image/jpeg:https://swing46.nyc/wp-content/uploads/2022/07/RobEdwards_Birdland_BigBAnd.jpg
END:VEVENT
BEGIN:VEVENT
DTSTART;TZID=America/New_York:20231018T190000
DTEND;TZID=America/New_York:20231018T230000
DTSTAMP:20260419T231229
CREATED:20231002T224427Z
LAST-MODIFIED:20231002T224427Z
UID:10001680-1697655600-1697670000@swing46.nyc
SUMMARY:Salsa Night Jimmy Bosch Birthday Bash
DESCRIPTION:Late Set | Special Latin Salsa Night\n7:00 – 11:00: Salsa Wednesday \nHappy Birthday Jimmy Bosch “El Trombón Criollo” with surprise guests!
URL:https://swing46.nyc/event/salsa-night-jimmy-bosch-bday/
LOCATION:Swing 46\, 349 W 46th Street\, New York\, NY\, 10036\, United States
CATEGORIES:Parties,Performances
ATTACH;FMTTYPE=image/jpeg:https://swing46.nyc/wp-content/uploads/2023/10/SalsaNight-JimmyBosch_WedOCT18.jpg
END:VEVENT
BEGIN:VEVENT
DTSTART;TZID=America/New_York:20231019T210000
DTEND;TZID=America/New_York:20231020T000000
DTSTAMP:20260419T231229
CREATED:20231002T223615Z
LAST-MODIFIED:20231002T223615Z
UID:10001678-1697749200-1697760000@swing46.nyc
SUMMARY:THU | Stan Rubin featuring Joe Politi
DESCRIPTION:Late Set | Jazz Band\n9:00 – 12:00: Stan Rubin Orchestra feat. Joe Politi \n“Swing is a form of music that grew out of jazz\,” explained Stan Rubin. “The beauty of big-band swing is that it combines musical structure with improvisation\, the hallmark of jazz\, but swing doesn’t abandon the melody like some modern jazz.” As ruler of his particular kingdom\, Stan built over many decades in a library of swing\, a collection of the arrangements played by the likes of Goodman\, the Dorsey Brothers\, Artie Shaw\, Duke Ellington\, Count Basie\, Harry James and a half-dozen others who swung America from the 1930s into the early 50s. And he continues to keep this brand of music on the menu\, through live appearances by the Stan Rubin Orchestra.
URL:https://swing46.nyc/event/thu-stan-rubin-late-oct-19/
LOCATION:Swing 46\, 349 W 46th Street\, New York\, NY\, 10036\, United States
CATEGORIES:Performances
ATTACH;FMTTYPE=image/jpeg:https://swing46.nyc/wp-content/uploads/2022/07/StanRubinJoePolito_screenshot_SWING46.jpg
END:VEVENT
BEGIN:VEVENT
DTSTART;TZID=America/New_York:20231020T210000
DTEND;TZID=America/New_York:20231021T010000
DTSTAMP:20260419T231229
CREATED:20230926T224754Z
LAST-MODIFIED:20231016T231627Z
UID:10001662-1697835600-1697850000@swing46.nyc
SUMMARY:FRI | SWING 46 All-Star Dance Band
DESCRIPTION:Late Set | Jazz Band\n9:00 – 1:00: SWING 46 All-Star Dance Band\nThe Swing 46 All-Star Dance Band captures the best of Swing\, Jump Blues\, boogie woogie\, & Root’s Rock n’ Roll. Their collection is inspired by the styles that dancers love! PLUS it’s another OLD SCHOOL DANCE night! Our PROS will be in the HOUSE Leading some popular LINE DANCES and TEACHING partnering!
URL:https://swing46.nyc/event/fri-all-star-dance-band-late/
LOCATION:Swing 46\, 349 W 46th Street\, New York\, NY\, 10036\, United States
CATEGORIES:Performances
ATTACH;FMTTYPE=image/jpeg:https://swing46.nyc/wp-content/uploads/2023/10/AllstarDanceBand_OCT20-2023WEB1080.jpg
END:VEVENT
BEGIN:VEVENT
DTSTART;TZID=America/New_York:20231021T210000
DTEND;TZID=America/New_York:20231022T010000
DTSTAMP:20260419T231229
CREATED:20230925T010746Z
LAST-MODIFIED:20230925T010746Z
UID:10001652-1697922000-1697936400@swing46.nyc
SUMMARY:SAT | Matthew Piazzi & The Debonairs
DESCRIPTION:Late Set | Live Music\n9:00 – 1:00: MATTHEW PIAZZI and The DEBONAIRS are a 1950s pop group\, bringing you all the very best in vintage music\, style and American nostalgia. Lead vocalist Matthew Piazzi was a TOP 10 finalist on AMERICA’S GOT TALENT as a witty celebrity voice impressionist and comedian. \nLead Guitarist/Vocalist Nick Palumbo is a musical prodigy who played a significant role in the re-birth of Swing\, Jump Blues & Root’s Rock n’ Roll during the 1990s. Together\, they take you on an all American nostalgic journey back to an era of romance and the birth of Rock N’ Roll\, covering a collection of 1950s rhythm & blues\, jump blues\, swing\, boogie woogie\, cha cha and more.
URL:https://swing46.nyc/event/sat-matthew-piazzi-debonairs-late/
LOCATION:Swing 46\, 349 W 46th Street\, New York\, NY\, 10036\, United States
CATEGORIES:Performances
ATTACH;FMTTYPE=image/jpeg:https://swing46.nyc/wp-content/uploads/2023/05/Matthew-Piazzi-Buzz-SW46-web.jpg
END:VEVENT
BEGIN:VEVENT
DTSTART;TZID=America/New_York:20231022T210000
DTEND;TZID=America/New_York:20231023T000000
DTSTAMP:20260419T231229
CREATED:20230920T004633Z
LAST-MODIFIED:20230920T004633Z
UID:10001650-1698008400-1698019200@swing46.nyc
SUMMARY:SUN | George Gee Swing Orchestra
DESCRIPTION:Late Set | Jazz Band\n9:00 – 12:00: George Gee Swing Orchestra spearheaded the modern swing resurgence nearly four decades ago. Headlining regularly at Lincoln Center’s Midsummer Night Swing\, the swing big band was a favorite of famed Savoy swing dancer Frankie Manning having performed a long series of dance events in his honor in New York City\, Boston\, Chicago\, San Francisco and Tokyo! Lindy Hoppers around the country and world are big fans of the George Gee high-energy shows! Also catch them weekly at SWING46 Jazz & Supper in Times Square.
URL:https://swing46.nyc/event/sun-george-gee-late-oct-22/
LOCATION:Swing 46\, 349 W 46th Street\, New York\, NY\, 10036\, United States
CATEGORIES:Performances
ATTACH;FMTTYPE=image/jpeg:https://swing46.nyc/wp-content/uploads/2021/03/GeorgeGeeWIDE-Anna-YatskevichWEB1280.jpg
END:VEVENT
BEGIN:VEVENT
DTSTART;TZID=America/New_York:20231024T210000
DTEND;TZID=America/New_York:20231025T000000
DTSTAMP:20260419T231229
CREATED:20230918T005943Z
LAST-MODIFIED:20230918T005943Z
UID:10001629-1698181200-1698192000@swing46.nyc
SUMMARY:TUE | Rob Edwards Big Band
DESCRIPTION:Late Set | Jazz Band\n9:00 – 12:00: Rob Edwards Big Band \nRob Edwards brings his powerhouse Big Band to Swing 46 and features marvelously talented special guest vocalists. \nBorn in West Palm Beach\, FL\, Robert completed his schooling at the Juilliard school and soon after joined the Roy Hargrove Big Band\, Dizzy Gillespie All-Star Big Band and Jimmy Heath’s Big Band.  John Lee\, Leader of the Dizzy Gillespie All-Star Band\, hails Robert as\, “A future giant of jazz trombone.”  His first record is titled “Sound Business.”
URL:https://swing46.nyc/event/tue-rob-edwards-late-oct-24/
LOCATION:Swing 46\, 349 W 46th Street\, New York\, NY\, 10036\, United States
CATEGORIES:Performances
ATTACH;FMTTYPE=image/jpeg:https://swing46.nyc/wp-content/uploads/2022/07/RobEdwards_Birdland_BigBAnd.jpg
END:VEVENT
BEGIN:VEVENT
DTSTART;TZID=America/New_York:20231025T210000
DTEND;TZID=America/New_York:20231026T000000
DTSTAMP:20260419T231229
CREATED:20230918T011854Z
LAST-MODIFIED:20230918T012006Z
UID:10001638-1698267600-1698278400@swing46.nyc
SUMMARY:WED | Swingadelic Big Band
DESCRIPTION:Late Set | Jazz Band\n9:00 – 12:00: Swingadelic Big Band. Swingadelic\, hailed as “Hoboken’s greatest little big band”\, is led by bassist Dave Post. This outfit plays a mix of Swing\, Jump Blues\, vintage rhythm & blues and much more. \nSwingadelic has performed at Lincoln Center’s Midsummer Night Swing\, NJPAC\, and at many festivals\, including Bele Chere (Ashville NC)\, MusikFest (Allentown PA)\, the CD 109 Jazz & Blues Festival (Red Bank\, NJ) and the sanofi-aventis JazzFest (Madison NJ)… \nThe band plays about 100 dates per year and has traveled from Maine to Atlanta. Swingadelic has maintained a residency for eight years at Swing 46 in NYC where they perform weekly.
URL:https://swing46.nyc/event/wed-swingadelic-late-oct-25/
LOCATION:Swing 46\, 349 W 46th Street\, New York\, NY\, 10036\, United States
CATEGORIES:Performances
ATTACH;FMTTYPE=image/jpeg:https://swing46.nyc/wp-content/uploads/2022/07/Swingadelic-by-Paolo-WEB-IMG_4356.jpg
END:VEVENT
BEGIN:VEVENT
DTSTART;TZID=America/New_York:20231026T210000
DTEND;TZID=America/New_York:20231027T000000
DTSTAMP:20260419T231229
CREATED:20230918T012344Z
LAST-MODIFIED:20230918T012344Z
UID:10001641-1698354000-1698364800@swing46.nyc
SUMMARY:THU | Stan Rubin featuring Joe Politi
DESCRIPTION:Late Set | Jazz Band\n9:00 – 12:00: Stan Rubin Orchestra feat. Joe Politi \n“Swing is a form of music that grew out of jazz\,” explained Stan Rubin. “The beauty of big-band swing is that it combines musical structure with improvisation\, the hallmark of jazz\, but swing doesn’t abandon the melody like some modern jazz.” As ruler of his particular kingdom\, Stan built over many decades in a library of swing\, a collection of the arrangements played by the likes of Goodman\, the Dorsey Brothers\, Artie Shaw\, Duke Ellington\, Count Basie\, Harry James and a half-dozen others who swung America from the 1930s into the early 50s. And he continues to keep this brand of music on the menu\, through live appearances by the Stan Rubin Orchestra.
URL:https://swing46.nyc/event/thu-stan-rubin-late-oct-26/
LOCATION:Swing 46\, 349 W 46th Street\, New York\, NY\, 10036\, United States
CATEGORIES:Performances
ATTACH;FMTTYPE=image/jpeg:https://swing46.nyc/wp-content/uploads/2022/07/StanRubinJoePolito_screenshot_SWING46.jpg
END:VEVENT
BEGIN:VEVENT
DTSTART;TZID=America/New_York:20231027T210000
DTEND;TZID=America/New_York:20231028T010000
DTSTAMP:20260419T231229
CREATED:20230927T020314Z
LAST-MODIFIED:20230927T020314Z
UID:10001669-1698440400-1698454800@swing46.nyc
SUMMARY:FRI | Swingadelic
DESCRIPTION:Late Set | Jazz Band\n9:00 – 1:00: Swingadelic Big Band \nSwingadelic has performed at Lincoln Center’s Midsummer Night Swing\, NJPAC\, and at many festivals\, including Bele Chere (Ashville NC)\, MusikFest (Allentown PA)\, the CD 109 Jazz & Blues Festival (Red Bank\, NJ)\, and the sanofi-aventis JazzFest (Madison NJ)…The band plays about 100 dates per year and has traveled from Maine to Atlanta. Swingadelic has maintained a residency for eight years at Swing 46 in NYC where they perform weekly.
URL:https://swing46.nyc/event/fri-swingadelic-late-oct-27/
LOCATION:Swing 46\, 349 W 46th Street\, New York\, NY\, 10036\, United States
CATEGORIES:Performances
ATTACH;FMTTYPE=image/jpeg:https://swing46.nyc/wp-content/uploads/2023/03/Swingadelic-by-PaoloWEB1080IMG_4353.jpg
END:VEVENT
BEGIN:VEVENT
DTSTART;TZID=America/New_York:20231028T210000
DTEND;TZID=America/New_York:20231029T010000
DTSTAMP:20260419T231229
CREATED:20230925T023227Z
LAST-MODIFIED:20231027T191610Z
UID:10001654-1698526800-1698541200@swing46.nyc
SUMMARY:SAT | TKO Halloween Party
DESCRIPTION:Join us SATURDAY OCT 28th for our ANNUAL HALLOWEEN PARTY featuring Timatha Kasten & TKO (Total Knock Out Band)\nDance Lesson 8:30PM\nBest Costume Contest with Prizes at 11PM
URL:https://swing46.nyc/event/sat-halloween-tko/
LOCATION:Swing 46\, 349 W 46th Street\, New York\, NY\, 10036\, United States
CATEGORIES:Parties,Performances
ATTACH;FMTTYPE=image/jpeg:https://swing46.nyc/wp-content/uploads/2023/09/Halloween-sw46-revised-TKO-with-Timatha-Kasten-2023-540.jpg
END:VEVENT
BEGIN:VEVENT
DTSTART;TZID=America/New_York:20231029T210000
DTEND;TZID=America/New_York:20231030T000000
DTSTAMP:20260419T231229
CREATED:20230920T004739Z
LAST-MODIFIED:20230920T004739Z
UID:10001651-1698613200-1698624000@swing46.nyc
SUMMARY:SUN | George Gee Swing Orchestra
DESCRIPTION:Late Set | Jazz Band\n9:00 – 12:00: George Gee Swing Orchestra spearheaded the modern swing resurgence nearly four decades ago. Headlining regularly at Lincoln Center’s Midsummer Night Swing\, the swing big band was a favorite of famed Savoy swing dancer Frankie Manning having performed a long series of dance events in his honor in New York City\, Boston\, Chicago\, San Francisco and Tokyo! Lindy Hoppers around the country and world are big fans of the George Gee high-energy shows! Also catch them weekly at SWING46 Jazz & Supper in Times Square.
URL:https://swing46.nyc/event/sun-george-gee-late-oct-29/
LOCATION:Swing 46\, 349 W 46th Street\, New York\, NY\, 10036\, United States
CATEGORIES:Performances
ATTACH;FMTTYPE=image/jpeg:https://swing46.nyc/wp-content/uploads/2021/03/GeorgeGeeWIDE-Anna-YatskevichWEB1280.jpg
END:VEVENT
BEGIN:VEVENT
DTSTART;TZID=America/New_York:20231031T210000
DTEND;TZID=America/New_York:20231101T000000
DTSTAMP:20260419T231229
CREATED:20230918T010046Z
LAST-MODIFIED:20231030T142406Z
UID:10001630-1698786000-1698796800@swing46.nyc
SUMMARY:TUE | Sandy Jordan's All-Star Cabaret HALLOWEEN
DESCRIPTION:HALLOWEEN Sandy Jordan’s All-Star Cabaret & COSTUME CONTEST\nwith your hosts: Michelle Collier\, Victor Neufeld\, Sandy Jordan\nMusicians: Lee Tomboulian-Piano\, Michael Young-Trumpet\, Mike Campenni-Drums\, Will Lyle-Bass and Special Guest Vocalists: Marty Elkins\, Lynn McCune\, Karen Freid\, Amy London\, Gayle Sommers\nTango Dance: Ninah Beliavsky \n \n 
URL:https://swing46.nyc/event/halloween-sandy-jordan-cabaret/
LOCATION:Swing 46\, 349 W 46th Street\, New York\, NY\, 10036\, United States
CATEGORIES:Performances
ATTACH;FMTTYPE=image/jpeg:https://swing46.nyc/wp-content/uploads/2023/09/Sandy-Jordans-Halloween-All-Star-Cabaret-Banner-Swing46-2023web1080-1.jpg
END:VEVENT
END:VCALENDAR