BEGIN:VCALENDAR
VERSION:2.0
PRODID:-//Swing 46 - ECPv6.15.12//NONSGML v1.0//EN
CALSCALE:GREGORIAN
METHOD:PUBLISH
X-WR-CALNAME:Swing 46
X-ORIGINAL-URL:https://swing46.nyc
X-WR-CALDESC:Events for Swing 46
REFRESH-INTERVAL;VALUE=DURATION:PT1H
X-Robots-Tag:noindex
X-PUBLISHED-TTL:PT1H
BEGIN:VTIMEZONE
TZID:America/New_York
BEGIN:DAYLIGHT
TZOFFSETFROM:-0500
TZOFFSETTO:-0400
TZNAME:EDT
DTSTART:20240310T070000
END:DAYLIGHT
BEGIN:STANDARD
TZOFFSETFROM:-0400
TZOFFSETTO:-0500
TZNAME:EST
DTSTART:20241103T060000
END:STANDARD
BEGIN:DAYLIGHT
TZOFFSETFROM:-0500
TZOFFSETTO:-0400
TZNAME:EDT
DTSTART:20250309T070000
END:DAYLIGHT
BEGIN:STANDARD
TZOFFSETFROM:-0400
TZOFFSETTO:-0500
TZNAME:EST
DTSTART:20251102T060000
END:STANDARD
BEGIN:DAYLIGHT
TZOFFSETFROM:-0500
TZOFFSETTO:-0400
TZNAME:EDT
DTSTART:20260308T070000
END:DAYLIGHT
BEGIN:STANDARD
TZOFFSETFROM:-0400
TZOFFSETTO:-0500
TZNAME:EST
DTSTART:20261101T060000
END:STANDARD
END:VTIMEZONE
BEGIN:VEVENT
DTSTART;TZID=America/New_York:20250712T210000
DTEND;TZID=America/New_York:20250713T010000
DTSTAMP:20260419T162842
CREATED:20250623T235029Z
LAST-MODIFIED:20250629T220829Z
UID:10002891-1752354000-1752368400@swing46.nyc
SUMMARY:Victor's Vintage Vipers | SAT
DESCRIPTION:Late Sets | Jazz Band\nVictor’s Vintage Vipers bring us “Hard driving swing\, hard driving R&B\, easy dancing ’cause you can’t sit still”. Victor Neufeld has been leading his Jazz Band of NYC Jazz musicians for a number of years\, after a long and very successful career as an Executive Producer of many well-known network TV news programs. For twenty years\, Victor was the Executive Producer of 20/20 at ABC News\, winning 23 Emmy awards. He is a New York native\, and a longtime neighbor of Arthouse Hotel\, living on West End Ave….for over thirty years. visit our EventBrite page for ticket if you don’t see ticket window below.
URL:https://swing46.nyc/event/sat-victor-vintage-late-jul12/
LOCATION:Swing 46\, 349 W 46th Street\, New York\, NY\, 10036\, United States
CATEGORIES:Parties,Performances
ATTACH;FMTTYPE=image/jpeg:https://swing46.nyc/wp-content/uploads/2023/05/Victors-Vinatage-Vipers-Flyer.jpg
END:VEVENT
BEGIN:VEVENT
DTSTART;TZID=America/New_York:20250713T173000
DTEND;TZID=America/New_York:20250713T203000
DTSTAMP:20260419T162842
CREATED:20250701T011747Z
LAST-MODIFIED:20250710T191903Z
UID:10002910-1752427800-1752438600@swing46.nyc
SUMMARY:Jill McCarron | SUN
DESCRIPTION:Early Set | Jazz Quartet\n5:30 – 8:30: Jill McCarron Quartet | Jill McCarron is an icon of the New York City jazz scene. She’s been uptown at Dizzy’s\, Carlyle\, Knickerbocker\, Iridium\, Harvard Club\, Pierre Hotel\, Birdland; she’s been downtown at Blue Note\, Smalls\, Mezzrow\, Hermana. She has been there and she is there\, with a timeless and classic sound and a deeply-rooted jazz sensitivity. — Jazz Bird Records \nvisit our EventBrite page for tickets if you don’t see the ticket window below.
URL:https://swing46.nyc/event/sun-sarah-hayes-early-jul-13/
LOCATION:Swing 46\, 349 W 46th Street\, New York\, NY\, 10036\, United States
CATEGORIES:Parties,Performances
ATTACH;FMTTYPE=image/webp:https://swing46.nyc/wp-content/uploads/2024/07/Jill-McCarron-Musician-Pianist.webp
END:VEVENT
BEGIN:VEVENT
DTSTART;TZID=America/New_York:20250713T210000
DTEND;TZID=America/New_York:20250714T000000
DTSTAMP:20260419T162842
CREATED:20250615T000945Z
LAST-MODIFIED:20250615T002429Z
UID:10002871-1752440400-1752451200@swing46.nyc
SUMMARY:George Gee Swing Orchestra | SUN
DESCRIPTION:Late Set | Jazz Band\n9:00 – 12:00: George Gee Swing Orchestra \nGeorge Gee Swing Orchestra spearheaded the modern swing resurgence nearly four decades ago. Headlining regularly at Lincoln Center’s Midsummer Night Swing\, the swing big band was a favorite of famed Savoy swing dancer Frankie Manning having performed a long series of dance events in his honor in New York City\, Boston\, Chicago\, San Francisco and Tokyo! Lindy Hoppers around the country and world are big fans of the George Gee high-energy shows! Also catch them weekly at SWING46 Jazz & Supper in Times Square.
URL:https://swing46.nyc/event/sun-george-gee-late-jul-13/
LOCATION:Swing 46\, 349 W 46th Street\, New York\, NY\, 10036\, United States
CATEGORIES:Performances
ATTACH;FMTTYPE=image/jpeg:https://swing46.nyc/wp-content/uploads/2021/03/GeorgeGeeWIDE-Anna-YatskevichWEB1280.jpg
END:VEVENT
BEGIN:VEVENT
DTSTART;TZID=America/New_York:20250715T173000
DTEND;TZID=America/New_York:20250715T203000
DTSTAMP:20260419T162842
CREATED:20250710T192733Z
LAST-MODIFIED:20250710T192952Z
UID:10002911-1752600600-1752611400@swing46.nyc
SUMMARY:Janice Friedman Quartet | TUE
DESCRIPTION:Early Set | Jazz Quartet\n5:30pm – 8:30pm: Janice Friedman Quartet \nBorn and based in New York City\, Janice has done music here and all over the world for over three decades. She’s played in the most famous of concert halls and notable clubs from Carnegie Hall and the JFK Arts Center to the Blue Note\, Birdland\, Kitano\, Smoke\, Dizzy’s Jazz Club\, Sweet Basil\, Sweet Rhythm\, Mezzrow\, Smalls and Iridium. You can safely say she has wowed audiences from coast to coast and on practically every continent on the globe. \nvisit our EventBrite page for tickets if you don’t see ticket window below.
URL:https://swing46.nyc/event/tue-janice-early-july16/
LOCATION:Swing 46\, 349 W 46th Street\, New York\, NY\, 10036\, United States
CATEGORIES:Parties,Performances
ATTACH;FMTTYPE=image/jpeg:https://swing46.nyc/wp-content/uploads/2022/07/Janice-Friedman-FB-photo.jpg
END:VEVENT
BEGIN:VEVENT
DTSTART;TZID=America/New_York:20250715T210000
DTEND;TZID=America/New_York:20250716T000000
DTSTAMP:20260419T162842
CREATED:20250619T015357Z
LAST-MODIFIED:20250619T015357Z
UID:10002878-1752613200-1752624000@swing46.nyc
SUMMARY:Rob Edwards Big Band | TUE
DESCRIPTION:Late Set | Jazz Band\n9:00 – 12:00: Rob Edwards Big Band \nRob Edwards brings his powerhouse Big Band to Swing 46 and features marvelously talented special guest vocalists. Born in West Palm Beach\, FL\, Robert completed his schooling at the Juilliard school and soon after joined the Roy Hargrove Big Band\, Dizzy Gillespie All-Star Big Band and Jimmy Heath’s Big Band. John Lee\, Leader of the Dizzy Gillespie All-Star Band\, hails Robert as\, “A future giant of jazz trombone.” His first record is titled “Sound Business.”
URL:https://swing46.nyc/event/tue-rob-edwards-late-jul-15/
LOCATION:Swing 46\, 349 W 46th Street\, New York\, NY\, 10036\, United States
CATEGORIES:Performances
ATTACH;FMTTYPE=image/jpeg:https://swing46.nyc/wp-content/uploads/2022/07/RobEdwards_Birdland_BigBAnd.jpg
END:VEVENT
BEGIN:VEVENT
DTSTART;TZID=America/New_York:20250716T173000
DTEND;TZID=America/New_York:20250716T203000
DTSTAMP:20260419T162842
CREATED:20250613T000922Z
LAST-MODIFIED:20250714T233037Z
UID:10002858-1752687000-1752697800@swing46.nyc
SUMMARY:CLOSED TODAY | WED
DESCRIPTION:We regret to inform you that we will not be in operation on WED JULY 16th. Please come visit us tomorrow and beyond.
URL:https://swing46.nyc/event/wed-closed-early-jul-16/
LOCATION:Swing 46\, 349 W 46th Street\, New York\, NY\, 10036\, United States
CATEGORIES:Performances
ATTACH;FMTTYPE=image/jpeg:https://swing46.nyc/wp-content/uploads/2024/12/sorry-were-closed.jpg
END:VEVENT
BEGIN:VEVENT
DTSTART;TZID=America/New_York:20250716T210000
DTEND;TZID=America/New_York:20250717T000000
DTSTAMP:20260419T162842
CREATED:20250614T233716Z
LAST-MODIFIED:20250714T233159Z
UID:10002863-1752699600-1752710400@swing46.nyc
SUMMARY:CLOSED TODAY | WED
DESCRIPTION:We regret to inform you that we will not be in operation on WED JULY 16th. Please come visit us tomorrow and beyond.
URL:https://swing46.nyc/event/wed-closed-late-jul-16/
LOCATION:Swing 46\, 349 W 46th Street\, New York\, NY\, 10036\, United States
CATEGORIES:Performances
ATTACH;FMTTYPE=image/jpeg:https://swing46.nyc/wp-content/uploads/2024/12/sorry-were-closed.jpg
END:VEVENT
BEGIN:VEVENT
DTSTART;TZID=America/New_York:20250717T173000
DTEND;TZID=America/New_York:20250717T203000
DTSTAMP:20260419T162842
CREATED:20250623T010226Z
LAST-MODIFIED:20250714T215058Z
UID:10002883-1752773400-1752784200@swing46.nyc
SUMMARY:Michael Hashim | THU
DESCRIPTION:Early Set | Jazz Quartet\n5:30 – 8:30: Michael Hashim \nMichael Hashim has a jazz mastery of the Saxophone and drops in his vocals for those witty & swingable style numbers. You’ll love this band! \nThe effervescent but cultured saxophone sound of Michael Hashim owes clear allegiance to swing masters Johnny Hodges and Benny Carter\, but also to later players such as Charlie Parker and Sonny Criss.\nclassic-music.com
URL:https://swing46.nyc/event/thu-jennifer-pace-early-jul-17/
LOCATION:Swing 46\, 349 W 46th Street\, New York\, NY\, 10036\, United States
CATEGORIES:Parties,Performances
ATTACH;FMTTYPE=image/jpeg:https://swing46.nyc/wp-content/uploads/2021/08/hashim_sarah_hayes1280.jpg
END:VEVENT
BEGIN:VEVENT
DTSTART;TZID=America/New_York:20250717T210000
DTEND;TZID=America/New_York:20250718T000000
DTSTAMP:20260419T162842
CREATED:20250614T235831Z
LAST-MODIFIED:20250614T235940Z
UID:10002867-1752786000-1752796800@swing46.nyc
SUMMARY:Stan Rubin Orchestra featuring Joe Politi | THU
DESCRIPTION:Late Set | Jazz Band\n9:00 – 12:00: Stan Rubin Orchestra feat. Joe Politi \nStan Rubin Orchestra feat. Joe Politi “Swing is a form of music that grew out of jazz\,” explained Stan Rubin. “The beauty of big-band swing is that it combines musical structure with improvisation\, the hallmark of jazz\, but swing doesn’t abandon the melody like some modern jazz.” As ruler of his particular kingdom\, Stan built over many decades in a library of swing\, a collection of the arrangements played by the likes of Goodman\, the Dorsey Brothers\, Artie Shaw\, Duke Ellington\, Count Basie\, Harry James and a half-dozen others who swung America from the 1930s into the early 50s. And he continues to keep this brand of music on the menu\, through live appearances by the Stan Rubin Orchestra.
URL:https://swing46.nyc/event/thu-stan-rubin-late-jul-17/
LOCATION:Swing 46\, 349 W 46th Street\, New York\, NY\, 10036\, United States
CATEGORIES:Performances
ATTACH;FMTTYPE=image/jpeg:https://swing46.nyc/wp-content/uploads/2022/07/StanRubinJoePolito_screenshot_SWING46.jpg
END:VEVENT
BEGIN:VEVENT
DTSTART;TZID=America/New_York:20250718T173000
DTEND;TZID=America/New_York:20250718T203000
DTSTAMP:20260419T162842
CREATED:20250626T145643Z
LAST-MODIFIED:20250629T213326Z
UID:10002900-1752859800-1752870600@swing46.nyc
SUMMARY:Janice Friedman Quartet | FRI
DESCRIPTION:Early Set | Jazz Quartet \n5:30 – 8:30: Janice Friedman Quartet – Born and based in New York City\, Janice has done music here and all over the world for over three decades. She’s played in the most famous of concert halls and notable clubs from Carnegie Hall and the JFK Arts Center to the Blue Note\, Birdland\, Kitano\, Smoke\, Dizzy’s Jazz Club\, Sweet Basil\, Sweet Rhythm\, Mezzrow\, Smalls and Iridium. You can safely say she has wowed audiences from coast to coast and on practically every continent on the globe. visit our EventBrite page for tickets if you don’t see ticket window below.
URL:https://swing46.nyc/event/fri-janice-friedman-early-jul18/
LOCATION:Swing 46\, 349 W 46th Street\, New York\, NY\, 10036\, United States
CATEGORIES:Parties,Performances
ATTACH;FMTTYPE=image/jpeg:https://swing46.nyc/wp-content/uploads/2022/07/Janice-Friedman-FB-photo.jpg
END:VEVENT
BEGIN:VEVENT
DTSTART;TZID=America/New_York:20250718T210000
DTEND;TZID=America/New_York:20250719T010000
DTSTAMP:20260419T162842
CREATED:20250624T000330Z
LAST-MODIFIED:20250629T214038Z
UID:10002892-1752872400-1752886800@swing46.nyc
SUMMARY:George Gee Swing All-Stars | FRI
DESCRIPTION:Late Set | Jazz Band\n9:00pm – 1:00am: George Gee Swing All-Stars – George Gee Swing Combo spearheaded the modern swing resurgence nearly four decades ago. Headlining regularly at Lincoln Center’s Midsummer Night Swing\, the swing big band was a favorite of famed Savoy swing dancer Frankie Manning having performed a long series of dance events in his honor in New York City\, Boston\, Chicago\, San Francisco and Tokyo! Lindy Hoppers around the country and world are big fans of the George Gee high-energy shows! Also catch them weekly at SWING46 Jazz & Supper in Times Square. This night will feature George’s Combo sized band! visit our EventBrite page for tickets if you don’t see ticket window below.
URL:https://swing46.nyc/event/fri-george-gee-combo-jul18/
LOCATION:Swing 46\, 349 W 46th Street\, New York\, NY\, 10036\, United States
CATEGORIES:Parties,Performances
ATTACH;FMTTYPE=image/jpeg:https://swing46.nyc/wp-content/uploads/2021/03/GeorgeGeeWIDE-Anna-YatskevichWEB1280.jpg
END:VEVENT
BEGIN:VEVENT
DTSTART;TZID=America/New_York:20250719T173000
DTEND;TZID=America/New_York:20250719T203000
DTSTAMP:20260419T162842
CREATED:20250624T001615Z
LAST-MODIFIED:20250629T220625Z
UID:10002893-1752946200-1752957000@swing46.nyc
SUMMARY:Michelle Collier Swingtet | SAT
DESCRIPTION:Early Set | Jazz Quartet\n5:30 – 8:30: Michelle Collier Swingtet. Michelle Collier is the songstress of Swing 46\, captivating audiences from around the world with her powerful and melodic voice. Her shows keep everyone foot-tapping their way to the dance floor. So come join in and experience the magic of The Great American Songbook. Michelle Collier has worked as a professional singer\, dancer\, choreographer and performer for live theater\, orchestras and bands for the past 30 years. Performance venues range from jazz clubs and concert halls to regional theaters\, outdoor amphitheaters and football stadiums. Michelle has performed at a variety of live performance venues in NYC\, in Times Square and around the world.. visit our EventBrite page for ticket if you don’t see ticket window below.
URL:https://swing46.nyc/event/sat-michelle-collier-early-jul19/
LOCATION:Swing 46\, 349 W 46th Street\, New York\, NY\, 10036\, United States
CATEGORIES:Parties,Performances
ATTACH;FMTTYPE=image/jpeg:https://swing46.nyc/wp-content/uploads/2022/08/Michelle-Collier-with-SSOcropped.jpg
END:VEVENT
BEGIN:VEVENT
DTSTART;TZID=America/New_York:20250719T210000
DTEND;TZID=America/New_York:20250720T010000
DTSTAMP:20260419T162842
CREATED:20250624T200812Z
LAST-MODIFIED:20250706T061026Z
UID:10002897-1752958800-1752973200@swing46.nyc
SUMMARY:Ron Sunshine and his Orchestra | SAT
DESCRIPTION:Late Set | Live Music\n9:00 – 1:00: Ron Sunshine Swing Orchestra – Ron Sunshine and his band have traveled the world\, playing concerts\, festivals and nightclubs\, featured along the way on CNN\, BET\, NBC\, Fox\, BBC\, and other international television\, as well as numerous nationally released compilation CDs\, books\, films\, hundreds of radio stations in the US and abroad\, as well as in nationally televised advertisements. Popular with dancers as well as listeners\, Ron Sunshine and his band continue to dazzle audiences from New York to Los Angeles\, from Paris to Stockholm\, from Bermuda to Red Bank. They also provide music for all kinds of special events\, from corporate extravaganzas to intimate private soirees.
URL:https://swing46.nyc/event/sat-ron-sunshine-late-jul19/
LOCATION:Swing 46\, 349 W 46th Street\, New York\, NY\, 10036\, United States
CATEGORIES:Parties,Performances
ATTACH;FMTTYPE=image/jpeg:https://swing46.nyc/wp-content/uploads/2021/02/RonSunshine_Harmonica_BW_HIGHSwing46-1024x700-1.jpg
END:VEVENT
END:VCALENDAR