BEGIN:VCALENDAR
VERSION:2.0
PRODID:-//Swing 46 - ECPv6.15.12//NONSGML v1.0//EN
CALSCALE:GREGORIAN
METHOD:PUBLISH
X-WR-CALNAME:Swing 46
X-ORIGINAL-URL:https://swing46.nyc
X-WR-CALDESC:Events for Swing 46
REFRESH-INTERVAL;VALUE=DURATION:PT1H
X-Robots-Tag:noindex
X-PUBLISHED-TTL:PT1H
BEGIN:VTIMEZONE
TZID:America/New_York
BEGIN:DAYLIGHT
TZOFFSETFROM:-0500
TZOFFSETTO:-0400
TZNAME:EDT
DTSTART:20240310T070000
END:DAYLIGHT
BEGIN:STANDARD
TZOFFSETFROM:-0400
TZOFFSETTO:-0500
TZNAME:EST
DTSTART:20241103T060000
END:STANDARD
BEGIN:DAYLIGHT
TZOFFSETFROM:-0500
TZOFFSETTO:-0400
TZNAME:EDT
DTSTART:20250309T070000
END:DAYLIGHT
BEGIN:STANDARD
TZOFFSETFROM:-0400
TZOFFSETTO:-0500
TZNAME:EST
DTSTART:20251102T060000
END:STANDARD
BEGIN:DAYLIGHT
TZOFFSETFROM:-0500
TZOFFSETTO:-0400
TZNAME:EDT
DTSTART:20260308T070000
END:DAYLIGHT
BEGIN:STANDARD
TZOFFSETFROM:-0400
TZOFFSETTO:-0500
TZNAME:EST
DTSTART:20261101T060000
END:STANDARD
END:VTIMEZONE
BEGIN:VEVENT
DTSTART;TZID=America/New_York:20250904T173000
DTEND;TZID=America/New_York:20250904T203000
DTSTAMP:20260419T114732
CREATED:20250827T002408Z
LAST-MODIFIED:20250827T002551Z
UID:10003010-1757007000-1757017800@swing46.nyc
SUMMARY:Sarah Hayes & Swing Society | THU
DESCRIPTION:Early Set | Jazz Quartet\n5:30 – 8:30pm: Sarah Hayes and Swing Society. \nSarah Hayes ~ Vocalist and Bandleader\,‭ ‬has been at the forefront of New York’s music scene for the last‭ ‬8+‭ ‬years‭~ ‬Performing Jazz and Swinging Standards with numerous bands and orchestras\,‭ ‬lighting up New York’s finest Jazz Clubs with her vibrant voice\,‭ ‬enormous repertoire and sunny personality. Sarah is wowing audiences around the country and internationally.‭ \n‬Whether performances at the Montreal Jazz festival\,‭ ‬concerts with Steve Rossi‭ (‬Allen‭ & ‬Rossi‭)‬\,‭ ‬repeat singing engagements for NYC Mayor‭ ‬Michael Bloomberg\,‭ ‬touring the country with‭ ‬The Artie Shaw Orchestra\,‭ (‬A position once held by Billie Holiday‭)‬\,‭ ‬weekly engagements in NYC ~ Sarah brings the party to the party! visit our EventBrite page for tickets if you don’t see the ticket window below.
URL:https://swing46.nyc/event/thu-sarah-hayes-early-sep-4/
LOCATION:Swing 46\, 349 W 46th Street\, New York\, NY\, 10036\, United States
CATEGORIES:Performances
ATTACH;FMTTYPE=image/jpeg:https://swing46.nyc/wp-content/uploads/2021/12/Swing46-SarahHayes_dancefloor.jpg
END:VEVENT
BEGIN:VEVENT
DTSTART;TZID=America/New_York:20250904T210000
DTEND;TZID=America/New_York:20250905T000000
DTSTAMP:20260419T114732
CREATED:20250818T230747Z
LAST-MODIFIED:20250818T230851Z
UID:10002972-1757019600-1757030400@swing46.nyc
SUMMARY:Stan Rubin Orchestra featuring Joe Politi & Lynn McCune | THU
DESCRIPTION:Late Set | Jazz Band\n9:00 – 12:00: Stan Rubin Orchestra feat. Joe Politi and Lynn McCune \n“Swing is a form of music that grew out of jazz\,” explained Stan Rubin. “The beauty of big-band swing is that it combines musical structure with improvisation\, the hallmark of jazz\, but swing doesn’t abandon the melody like some modern jazz.” As ruler of his particular kingdom\, Stan built over many decades in a library of swing\, a collection of the arrangements played by the likes of Goodman\, the Dorsey Brothers\, Artie Shaw\, Duke Ellington\, Count Basie\, Harry James and a half-dozen others who swung America from the 1930s into the early 50s. And he continues to keep this brand of music on the menu\, through live appearances by the Stan Rubin Orchestra.
URL:https://swing46.nyc/event/thu-stan-rubin-late-sep-4/
LOCATION:Swing 46\, 349 W 46th Street\, New York\, NY\, 10036\, United States
CATEGORIES:Performances
ATTACH;FMTTYPE=image/jpeg:https://swing46.nyc/wp-content/uploads/2022/07/StanRubinJoePolito_screenshot_SWING46.jpg
END:VEVENT
END:VCALENDAR