BEGIN:VCALENDAR
VERSION:2.0
PRODID:-//Swing 46 - ECPv6.15.12//NONSGML v1.0//EN
CALSCALE:GREGORIAN
METHOD:PUBLISH
X-WR-CALNAME:Swing 46
X-ORIGINAL-URL:https://swing46.nyc
X-WR-CALDESC:Events for Swing 46
REFRESH-INTERVAL;VALUE=DURATION:PT1H
X-Robots-Tag:noindex
X-PUBLISHED-TTL:PT1H
BEGIN:VTIMEZONE
TZID:America/New_York
BEGIN:DAYLIGHT
TZOFFSETFROM:-0500
TZOFFSETTO:-0400
TZNAME:EDT
DTSTART:20240310T070000
END:DAYLIGHT
BEGIN:STANDARD
TZOFFSETFROM:-0400
TZOFFSETTO:-0500
TZNAME:EST
DTSTART:20241103T060000
END:STANDARD
BEGIN:DAYLIGHT
TZOFFSETFROM:-0500
TZOFFSETTO:-0400
TZNAME:EDT
DTSTART:20250309T070000
END:DAYLIGHT
BEGIN:STANDARD
TZOFFSETFROM:-0400
TZOFFSETTO:-0500
TZNAME:EST
DTSTART:20251102T060000
END:STANDARD
BEGIN:DAYLIGHT
TZOFFSETFROM:-0500
TZOFFSETTO:-0400
TZNAME:EDT
DTSTART:20260308T070000
END:DAYLIGHT
BEGIN:STANDARD
TZOFFSETFROM:-0400
TZOFFSETTO:-0500
TZNAME:EST
DTSTART:20261101T060000
END:STANDARD
END:VTIMEZONE
BEGIN:VEVENT
DTSTART;TZID=America/New_York:20250816T173000
DTEND;TZID=America/New_York:20250816T203000
DTSTAMP:20260419T131548
CREATED:20250721T040415Z
LAST-MODIFIED:20250801T013333Z
UID:10002947-1755365400-1755376200@swing46.nyc
SUMMARY:Michelle Collier Swingtet | SAT
DESCRIPTION:Early Set | Jazz Quartet\n5:30 – 8:30: Michelle Collier Swingtet. \nMichelle Collier is the songstress of Swing 46\, captivating audiences from around the world with her powerful and melodic voice. Her shows keep everyone foot-tapping their way to the dance floor. So come join in and experience the magic of The Great American Songbook. Michelle Collier has worked as a professional singer\, dancer\, choreographer and performer for live theater\, orchestras and bands for the past 30 years. Performance venues range from jazz clubs and concert halls to regional theaters\, outdoor amphitheaters and football stadiums. Michelle has performed at a variety of live performance venues in NYC\, in Times Square and around the world.. visit our EventBrite page for ticket if you don’t see ticket window below.
URL:https://swing46.nyc/event/sat-michelle-collier-early-aug16/
LOCATION:Swing 46\, 349 W 46th Street\, New York\, NY\, 10036\, United States
CATEGORIES:Parties,Performances
ATTACH;FMTTYPE=image/jpeg:https://swing46.nyc/wp-content/uploads/2022/08/Michelle-Collier-with-SSOcropped.jpg
END:VEVENT
BEGIN:VEVENT
DTSTART;TZID=America/New_York:20250816T210000
DTEND;TZID=America/New_York:20250817T010000
DTSTAMP:20260419T131548
CREATED:20250721T041719Z
LAST-MODIFIED:20250815T042804Z
UID:10002948-1755378000-1755392400@swing46.nyc
SUMMARY:Victor's Vipers | SAT
DESCRIPTION:Late Sets | Sinatra & Burlesque Revue\n9:00pm – 1:00am: Victor’s Vintage Vipers | Victor’s Vipers bring us a New York\, New York It’s a Wonderful Town special event featuring Burlesque Acts\, Dance Showcases by a world renowned Lindy Hop couple\, and LIVE MUSIC with Victor’s Vipers. \nSpecial Note: Our SAT AUG 16th show will feature New York’s most charming dance couple PAOLO & LAURENTINA who will showcase The Lindy Hop\, The Balboa & some stylish Jazz Routines LIVE to the band. Plus you won’t want to miss the Burlesque acts to follow! \n \nThis “Hard driving Swing and Rhythm & Blues cause you can’t sit still”. Victor Neufeld has been leading his Jazz Band of NYC Jazz musicians for a number of years\, after a long and very successful career as an Executive Producer of many well-known network TV news programs. For twenty years\, Victor was the Executive Producer of 20/20 at ABC News\, winning 23 Emmy awards. He is a New York native\, and a longtime neighbor of Arthouse Hotel\, living on West End Ave….for over thirty years. visit our EventBrite page for ticket if you don’t see ticket window below.
URL:https://swing46.nyc/event/sat-vintage-vipers-aug16/
LOCATION:Swing 46\, 349 W 46th Street\, New York\, NY\, 10036\, United States
CATEGORIES:Parties,Performances
ATTACH;FMTTYPE=image/jpeg:https://swing46.nyc/wp-content/uploads/2025/07/Victors-Vipers-AUG-16-WEB940.jpg
END:VEVENT
END:VCALENDAR