BEGIN:VCALENDAR
VERSION:2.0
PRODID:-//Swing 46 - ECPv6.15.12//NONSGML v1.0//EN
CALSCALE:GREGORIAN
METHOD:PUBLISH
X-ORIGINAL-URL:https://swing46.nyc
X-WR-CALDESC:Events for Swing 46
REFRESH-INTERVAL;VALUE=DURATION:PT1H
X-Robots-Tag:noindex
X-PUBLISHED-TTL:PT1H
BEGIN:VTIMEZONE
TZID:America/New_York
BEGIN:DAYLIGHT
TZOFFSETFROM:-0500
TZOFFSETTO:-0400
TZNAME:EDT
DTSTART:20240310T070000
END:DAYLIGHT
BEGIN:STANDARD
TZOFFSETFROM:-0400
TZOFFSETTO:-0500
TZNAME:EST
DTSTART:20241103T060000
END:STANDARD
BEGIN:DAYLIGHT
TZOFFSETFROM:-0500
TZOFFSETTO:-0400
TZNAME:EDT
DTSTART:20250309T070000
END:DAYLIGHT
BEGIN:STANDARD
TZOFFSETFROM:-0400
TZOFFSETTO:-0500
TZNAME:EST
DTSTART:20251102T060000
END:STANDARD
BEGIN:DAYLIGHT
TZOFFSETFROM:-0500
TZOFFSETTO:-0400
TZNAME:EDT
DTSTART:20260308T070000
END:DAYLIGHT
BEGIN:STANDARD
TZOFFSETFROM:-0400
TZOFFSETTO:-0500
TZNAME:EST
DTSTART:20261101T060000
END:STANDARD
END:VTIMEZONE
BEGIN:VEVENT
DTSTART;TZID=America/New_York:20250803T173000
DTEND;TZID=America/New_York:20250803T203000
DTSTAMP:20260419T131756
CREATED:20250722T004149Z
LAST-MODIFIED:20250722T004402Z
UID:10002952-1754242200-1754253000@swing46.nyc
SUMMARY:Michael Hashim | SUN
DESCRIPTION:Early Set | Jazz Quartet\n5:30 – 8:30: Michael Hashim \nMichael Hashim has a jazz mastery of the Saxophone and drops in his vocals for those witty & swingable style numbers. You’ll love this band! \nThe effervescent but cultured saxophone sound of Michael Hashim owes clear allegiance to swing masters Johnny Hodges and Benny Carter\, but also to later players such as Charlie Parker and Sonny Criss.\nclassic-music.com
URL:https://swing46.nyc/event/sun-michael-hashim-early-aug-3/
LOCATION:Swing 46\, 349 W 46th Street\, New York\, NY\, 10036\, United States
CATEGORIES:Performances
ATTACH;FMTTYPE=image/jpeg:https://swing46.nyc/wp-content/uploads/2021/08/hashim_sarah_hayes1280.jpg
END:VEVENT
BEGIN:VEVENT
DTSTART;TZID=America/New_York:20250803T210000
DTEND;TZID=America/New_York:20250804T000000
DTSTAMP:20260419T131756
CREATED:20250719T222305Z
LAST-MODIFIED:20250720T000347Z
UID:10002930-1754254800-1754265600@swing46.nyc
SUMMARY:George Gee Swing Orchestra | SUN
DESCRIPTION:Late Set | Jazz Band\n9:00 – 12:00: George Gee Swing Orchestra \nGeorge Gee Swing Orchestra spearheaded the modern swing resurgence nearly four decades ago. Headlining regularly at Lincoln Center’s Midsummer Night Swing\, the swing big band was a favorite of famed Savoy swing dancer Frankie Manning having performed a long series of dance events in his honor in New York City\, Boston\, Chicago\, San Francisco and Tokyo! Lindy Hoppers around the country and world are big fans of the George Gee high-energy shows! Also catch them weekly at SWING46 Jazz & Supper in Times Square.
URL:https://swing46.nyc/event/sun-george-gee-late-aug-3/
LOCATION:Swing 46\, 349 W 46th Street\, New York\, NY\, 10036\, United States
CATEGORIES:Performances
ATTACH;FMTTYPE=image/jpeg:https://swing46.nyc/wp-content/uploads/2021/03/GeorgeGeeWIDE-Anna-YatskevichWEB1280.jpg
END:VEVENT
END:VCALENDAR