BEGIN:VCALENDAR
VERSION:2.0
PRODID:-//Swing 46 - ECPv6.15.12//NONSGML v1.0//EN
CALSCALE:GREGORIAN
METHOD:PUBLISH
X-WR-CALNAME:Swing 46
X-ORIGINAL-URL:https://swing46.nyc
X-WR-CALDESC:Events for Swing 46
REFRESH-INTERVAL;VALUE=DURATION:PT1H
X-Robots-Tag:noindex
X-PUBLISHED-TTL:PT1H
BEGIN:VTIMEZONE
TZID:America/New_York
BEGIN:DAYLIGHT
TZOFFSETFROM:-0500
TZOFFSETTO:-0400
TZNAME:EDT
DTSTART:20240310T070000
END:DAYLIGHT
BEGIN:STANDARD
TZOFFSETFROM:-0400
TZOFFSETTO:-0500
TZNAME:EST
DTSTART:20241103T060000
END:STANDARD
BEGIN:DAYLIGHT
TZOFFSETFROM:-0500
TZOFFSETTO:-0400
TZNAME:EDT
DTSTART:20250309T070000
END:DAYLIGHT
BEGIN:STANDARD
TZOFFSETFROM:-0400
TZOFFSETTO:-0500
TZNAME:EST
DTSTART:20251102T060000
END:STANDARD
BEGIN:DAYLIGHT
TZOFFSETFROM:-0500
TZOFFSETTO:-0400
TZNAME:EDT
DTSTART:20260308T070000
END:DAYLIGHT
BEGIN:STANDARD
TZOFFSETFROM:-0400
TZOFFSETTO:-0500
TZNAME:EST
DTSTART:20261101T060000
END:STANDARD
END:VTIMEZONE
BEGIN:VEVENT
DTSTART;TZID=America/New_York:20250624T173000
DTEND;TZID=America/New_York:20250624T203000
DTSTAMP:20260419T164411
CREATED:20250513T015529Z
LAST-MODIFIED:20250621T213034Z
UID:10002844-1750786200-1750797000@swing46.nyc
SUMMARY:CLOSED TODAY | TUE
DESCRIPTION:CLOSED TODAY\nWe are Closed Today TUESDAY JUNE 24. We will reopen tomorrow Wednesday. We hope you can join us then!
URL:https://swing46.nyc/event/tue-closed-jun-24/
LOCATION:Swing 46\, 349 W 46th Street\, New York\, NY\, 10036\, United States
CATEGORIES:Performances
ATTACH;FMTTYPE=image/jpeg:https://swing46.nyc/wp-content/uploads/2024/12/sorry-were-closed.jpg
END:VEVENT
BEGIN:VEVENT
DTSTART;TZID=America/New_York:20250624T210000
DTEND;TZID=America/New_York:20250625T000000
DTSTAMP:20260419T164411
CREATED:20250509T032949Z
LAST-MODIFIED:20250621T213230Z
UID:10002826-1750798800-1750809600@swing46.nyc
SUMMARY:CLOSED TODAY | TUE
DESCRIPTION:CLOSED TODAY\nWe are Closed Today TUESDAY JUNE 24. We will reopen tomorrow Wednesday. We hope you can join us then!
URL:https://swing46.nyc/event/tue-closed-jun-24-2/
LOCATION:Swing 46\, 349 W 46th Street\, New York\, NY\, 10036\, United States
CATEGORIES:Performances
ATTACH;FMTTYPE=image/jpeg:https://swing46.nyc/wp-content/uploads/2024/12/sorry-were-closed.jpg
END:VEVENT
END:VCALENDAR