BEGIN:VCALENDAR
VERSION:2.0
PRODID:-//Swing 46 - ECPv6.15.12//NONSGML v1.0//EN
CALSCALE:GREGORIAN
METHOD:PUBLISH
X-WR-CALNAME:Swing 46
X-ORIGINAL-URL:https://swing46.nyc
X-WR-CALDESC:Events for Swing 46
REFRESH-INTERVAL;VALUE=DURATION:PT1H
X-Robots-Tag:noindex
X-PUBLISHED-TTL:PT1H
BEGIN:VTIMEZONE
TZID:America/New_York
BEGIN:DAYLIGHT
TZOFFSETFROM:-0500
TZOFFSETTO:-0400
TZNAME:EDT
DTSTART:20240310T070000
END:DAYLIGHT
BEGIN:STANDARD
TZOFFSETFROM:-0400
TZOFFSETTO:-0500
TZNAME:EST
DTSTART:20241103T060000
END:STANDARD
BEGIN:DAYLIGHT
TZOFFSETFROM:-0500
TZOFFSETTO:-0400
TZNAME:EDT
DTSTART:20250309T070000
END:DAYLIGHT
BEGIN:STANDARD
TZOFFSETFROM:-0400
TZOFFSETTO:-0500
TZNAME:EST
DTSTART:20251102T060000
END:STANDARD
BEGIN:DAYLIGHT
TZOFFSETFROM:-0500
TZOFFSETTO:-0400
TZNAME:EDT
DTSTART:20260308T070000
END:DAYLIGHT
BEGIN:STANDARD
TZOFFSETFROM:-0400
TZOFFSETTO:-0500
TZNAME:EST
DTSTART:20261101T060000
END:STANDARD
END:VTIMEZONE
BEGIN:VEVENT
DTSTART;TZID=America/New_York:20250605T183000
DTEND;TZID=America/New_York:20250605T203000
DTSTAMP:20260419T164413
CREATED:20250204T162925Z
LAST-MODIFIED:20250521T141942Z
UID:10002643-1749148200-1749155400@swing46.nyc
SUMMARY:FACT OR FICTION | THE SHOW
DESCRIPTION:FACT OR FICTION? THE SHOW\nFACT OR FICTION!? Follow dancers as they swing dance at a prom\, romp through a NYC subway ride\, and tryst with a Grindr date… You will laugh\, maybe cry\, and definitely have something to talk about with friends after the show…  In “Fact or Fiction?”\, we tell hilarious stories through dance. Are they true? You decide! \n\n\nHilarious theatrical dance show at Times Square Dinner Theater and Bar\, SWING46\, where the audience gets to vote on each skit\, are they fact or fiction!? \n6:30 SHOW START (90 minute show)\nAdmission $40 and 2 Drink Minimum TICKETS LINK\n\nINSTAGRAM\n\nVIMEO SHOW REEL
URL:https://swing46.nyc/event/fact-or-fiction-jun-5/
LOCATION:Swing 46\, 349 W 46th Street\, New York\, NY\, 10036\, United States
CATEGORIES:Performances
ATTACH;FMTTYPE=image/jpeg:https://swing46.nyc/wp-content/uploads/2025/01/Swing46_FACT-OR-FICTION-Coutesy-of-Trainor-Dance-web1280.jpg
END:VEVENT
BEGIN:VEVENT
DTSTART;TZID=America/New_York:20250605T210000
DTEND;TZID=America/New_York:20250606T000000
DTSTAMP:20260419T164413
CREATED:20250512T020833Z
LAST-MODIFIED:20250513T020221Z
UID:10002827-1749157200-1749168000@swing46.nyc
SUMMARY:Stan Rubin Orchestra featuring Joe Politi | THU
DESCRIPTION:Late Set | Jazz Band \n9:00 – 12:00: Stan Rubin Orchestra feat. Joe Politi \nStan Rubin Orchestra feat. Joe Politi “Swing is a form of music that grew out of jazz\,” explained Stan Rubin. “The beauty of big-band swing is that it combines musical structure with improvisation\, the hallmark of jazz\, but swing doesn’t abandon the melody like some modern jazz.” As ruler of his particular kingdom\, Stan built over many decades in a library of swing\, a collection of the arrangements played by the likes of Goodman\, the Dorsey Brothers\, Artie Shaw\, Duke Ellington\, Count Basie\, Harry James and a half-dozen others who swung America from the 1930s into the early 50s. And he continues to keep this brand of music on the menu\, through live appearances by the Stan Rubin Orchestra.
URL:https://swing46.nyc/event/thu-stan-rubin-late-jun-5/
LOCATION:Swing 46\, 349 W 46th Street\, New York\, NY\, 10036\, United States
CATEGORIES:Performances
ATTACH;FMTTYPE=image/jpeg:https://swing46.nyc/wp-content/uploads/2022/07/StanRubinJoePolito_screenshot_SWING46.jpg
END:VEVENT
END:VCALENDAR