BEGIN:VCALENDAR
VERSION:2.0
PRODID:-//Swing 46 - ECPv6.15.12//NONSGML v1.0//EN
CALSCALE:GREGORIAN
METHOD:PUBLISH
X-WR-CALNAME:Swing 46
X-ORIGINAL-URL:https://swing46.nyc
X-WR-CALDESC:Events for Swing 46
REFRESH-INTERVAL;VALUE=DURATION:PT1H
X-Robots-Tag:noindex
X-PUBLISHED-TTL:PT1H
BEGIN:VTIMEZONE
TZID:America/New_York
BEGIN:DAYLIGHT
TZOFFSETFROM:-0500
TZOFFSETTO:-0400
TZNAME:EDT
DTSTART:20240310T070000
END:DAYLIGHT
BEGIN:STANDARD
TZOFFSETFROM:-0400
TZOFFSETTO:-0500
TZNAME:EST
DTSTART:20241103T060000
END:STANDARD
BEGIN:DAYLIGHT
TZOFFSETFROM:-0500
TZOFFSETTO:-0400
TZNAME:EDT
DTSTART:20250309T070000
END:DAYLIGHT
BEGIN:STANDARD
TZOFFSETFROM:-0400
TZOFFSETTO:-0500
TZNAME:EST
DTSTART:20251102T060000
END:STANDARD
BEGIN:DAYLIGHT
TZOFFSETFROM:-0500
TZOFFSETTO:-0400
TZNAME:EDT
DTSTART:20260308T070000
END:DAYLIGHT
BEGIN:STANDARD
TZOFFSETFROM:-0400
TZOFFSETTO:-0500
TZNAME:EST
DTSTART:20261101T060000
END:STANDARD
END:VTIMEZONE
BEGIN:VEVENT
DTSTART;TZID=America/New_York:20250516T173000
DTEND;TZID=America/New_York:20250516T203000
DTSTAMP:20260419T233929
CREATED:20250418T033114Z
LAST-MODIFIED:20250418T033218Z
UID:10002782-1747416600-1747427400@swing46.nyc
SUMMARY:Janice Friedman Quartet | FRI
DESCRIPTION:Early Set | Jazz Quartet\n5:30 – 8:30: Janice Friedman Quartet \nBorn and based in New York City\, Janice has done music here and all over the world for over three decades. She’s played in the most famous of concert halls and notable clubs from Carnegie Hall and the JFK Arts Center to the Blue Note\, Birdland\, Kitano\, Smoke\, Dizzy’s Jazz Club\, Sweet Basil\, Sweet Rhythm\, Mezzrow\, Smalls and Iridium. You can safely say she has wowed audiences from coast to coast and on practically every continent on the globe. visit our EventBrite page for tickets if you don’t see ticket window below.
URL:https://swing46.nyc/event/fri-janice-friedman-early-may16/
LOCATION:Swing 46\, 349 W 46th Street\, New York\, NY\, 10036\, United States
CATEGORIES:Performances
ATTACH;FMTTYPE=image/jpeg:https://swing46.nyc/wp-content/uploads/2022/07/Janice-Friedman-FB-photo.jpg
END:VEVENT
BEGIN:VEVENT
DTSTART;TZID=America/New_York:20250516T210000
DTEND;TZID=America/New_York:20250517T010000
DTSTAMP:20260419T233929
CREATED:20250418T192132Z
LAST-MODIFIED:20250418T192549Z
UID:10002795-1747429200-1747443600@swing46.nyc
SUMMARY:Double Down | FRI
DESCRIPTION:Late Set | Jazz Band \n9:00 – 1:00: Double Down is New York City’s hottest swing band that’s been dealing for 21 years! We’re shuffling classic lounge grooves into modern pop smashes\, swingin’ everything from Sinatra to Nirvana and beyond. With vintage Vegas vibes and an edgy twist\, every live gig feels like hitting the jackpot—energetic\, unforgettable\, and sounding as slick on stage as we do on our brand-new album\, ‘21’! After 21 years\, you know we’ve got the winning hand. \nwww.DoubleDownMusic.com
URL:https://swing46.nyc/event/doubledown-fri/
LOCATION:Swing 46\, 349 W 46th Street\, New York\, NY\, 10036\, United States
CATEGORIES:Parties,Performances
ATTACH;FMTTYPE=image/jpeg:https://swing46.nyc/wp-content/uploads/2025/04/DoubleDown__image2-cweb.jpg
END:VEVENT
END:VCALENDAR