BEGIN:VCALENDAR
VERSION:2.0
PRODID:-//Swing 46 - ECPv6.15.12//NONSGML v1.0//EN
CALSCALE:GREGORIAN
METHOD:PUBLISH
X-ORIGINAL-URL:https://swing46.nyc
X-WR-CALDESC:Events for Swing 46
REFRESH-INTERVAL;VALUE=DURATION:PT1H
X-Robots-Tag:noindex
X-PUBLISHED-TTL:PT1H
BEGIN:VTIMEZONE
TZID:America/New_York
BEGIN:DAYLIGHT
TZOFFSETFROM:-0500
TZOFFSETTO:-0400
TZNAME:EDT
DTSTART:20240310T070000
END:DAYLIGHT
BEGIN:STANDARD
TZOFFSETFROM:-0400
TZOFFSETTO:-0500
TZNAME:EST
DTSTART:20241103T060000
END:STANDARD
BEGIN:DAYLIGHT
TZOFFSETFROM:-0500
TZOFFSETTO:-0400
TZNAME:EDT
DTSTART:20250309T070000
END:DAYLIGHT
BEGIN:STANDARD
TZOFFSETFROM:-0400
TZOFFSETTO:-0500
TZNAME:EST
DTSTART:20251102T060000
END:STANDARD
BEGIN:DAYLIGHT
TZOFFSETFROM:-0500
TZOFFSETTO:-0400
TZNAME:EDT
DTSTART:20260308T070000
END:DAYLIGHT
BEGIN:STANDARD
TZOFFSETFROM:-0400
TZOFFSETTO:-0500
TZNAME:EST
DTSTART:20261101T060000
END:STANDARD
END:VTIMEZONE
BEGIN:VEVENT
DTSTART;TZID=America/New_York:20250625T173000
DTEND;TZID=America/New_York:20250625T203000
DTSTAMP:20260419T094643
CREATED:20250501T015313Z
LAST-MODIFIED:20250625T201328Z
UID:10002809-1750872600-1750883400@swing46.nyc
SUMMARY:CLOSED DUE TO HEAT | WED
DESCRIPTION:SW46 CLOSED | EVENT CANCELLED\n5:30 – 8:30: KEVIN BLANCQ BIG BAND HAS BEEN CANCELLED TONIGHT DUE TO HEAT WE ARE CURRENTLY UNDERGOING AIR CONDITIONER REPAIRS. \nWe apologize for this last minute CLOSURE and change line-up but we had little choice. Please Join Us Tomorrow! \n 
URL:https://swing46.nyc/event/wed-kevin-blancq-early-jun-25/
LOCATION:Swing 46\, 349 W 46th Street\, New York\, NY\, 10036\, United States
CATEGORIES:Parties,Performances
ATTACH;FMTTYPE=image/jpeg:https://swing46.nyc/wp-content/uploads/2024/12/sorry-were-closed.jpg
END:VEVENT
BEGIN:VEVENT
DTSTART;TZID=America/New_York:20250625T210000
DTEND;TZID=America/New_York:20250626T000000
DTSTAMP:20260419T094643
CREATED:20250501T233540Z
LAST-MODIFIED:20250625T201509Z
UID:10002813-1750885200-1750896000@swing46.nyc
SUMMARY:CLOSED DUE TO HEAT | WED
DESCRIPTION:SW46 CLOSED | EVENT CANCELLED\n5:30 – 8:30: SWINGADELIC BIG BAND HAS BEEN CANCELLED TONIGHT DUE TO HEAT WE ARE CURRENTLY UNDERGOING AIR CONDITIONER REPAIRS. \nWe apologize for this last minute CLOSURE and change of line-up but we had little choice. Please Join Us Tomorrow!
URL:https://swing46.nyc/event/wed-swingadelic-late-jun-25/
LOCATION:Swing 46\, 349 W 46th Street\, New York\, NY\, 10036\, United States
CATEGORIES:Performances
ATTACH;FMTTYPE=image/jpeg:https://swing46.nyc/wp-content/uploads/2024/12/sorry-were-closed.jpg
END:VEVENT
END:VCALENDAR