BEGIN:VCALENDAR
VERSION:2.0
PRODID:-//Swing 46 - ECPv6.15.12//NONSGML v1.0//EN
CALSCALE:GREGORIAN
METHOD:PUBLISH
X-ORIGINAL-URL:https://swing46.nyc
X-WR-CALDESC:Events for Swing 46
REFRESH-INTERVAL;VALUE=DURATION:PT1H
X-Robots-Tag:noindex
X-PUBLISHED-TTL:PT1H
BEGIN:VTIMEZONE
TZID:America/New_York
BEGIN:DAYLIGHT
TZOFFSETFROM:-0500
TZOFFSETTO:-0400
TZNAME:EDT
DTSTART:20240310T070000
END:DAYLIGHT
BEGIN:STANDARD
TZOFFSETFROM:-0400
TZOFFSETTO:-0500
TZNAME:EST
DTSTART:20241103T060000
END:STANDARD
BEGIN:DAYLIGHT
TZOFFSETFROM:-0500
TZOFFSETTO:-0400
TZNAME:EDT
DTSTART:20250309T070000
END:DAYLIGHT
BEGIN:STANDARD
TZOFFSETFROM:-0400
TZOFFSETTO:-0500
TZNAME:EST
DTSTART:20251102T060000
END:STANDARD
BEGIN:DAYLIGHT
TZOFFSETFROM:-0500
TZOFFSETTO:-0400
TZNAME:EDT
DTSTART:20260308T070000
END:DAYLIGHT
BEGIN:STANDARD
TZOFFSETFROM:-0400
TZOFFSETTO:-0500
TZNAME:EST
DTSTART:20261101T060000
END:STANDARD
END:VTIMEZONE
BEGIN:VEVENT
DTSTART;TZID=America/New_York:20250527T173000
DTEND;TZID=America/New_York:20250527T203000
DTSTAMP:20260419T111619
CREATED:20250419T230937Z
LAST-MODIFIED:20250524T195115Z
UID:10002800-1748367000-1748377800@swing46.nyc
SUMMARY:CLOSED TONIGHT | TUE
DESCRIPTION:Early Set | Jazz Quartet\nWe regret to inform you that we will be closed this TUESDAY due to unavoidable administrative needs. We’ll be back open tomorrow and expect all Tuesdays starting back up in JUNE.
URL:https://swing46.nyc/event/tue-michael-hashim-early-may-27/
LOCATION:Swing 46\, 349 W 46th Street\, New York\, NY\, 10036\, United States
CATEGORIES:Performances
ATTACH;FMTTYPE=image/jpeg:https://swing46.nyc/wp-content/uploads/2024/12/sorry-were-closed.jpg
END:VEVENT
BEGIN:VEVENT
DTSTART;TZID=America/New_York:20250527T210000
DTEND;TZID=America/New_York:20250528T000000
DTSTAMP:20260419T111619
CREATED:20250418T184127Z
LAST-MODIFIED:20250524T195259Z
UID:10002793-1748379600-1748390400@swing46.nyc
SUMMARY:CLOSED TONIGHT | TUE
DESCRIPTION:Late Set | Jazz Band\nWe regret to inform you that we will be closed this TUESDAY due to unavoidable administrative needs. We’ll be back open tomorrow and expect all Tuesdays starting back up in JUNE.
URL:https://swing46.nyc/event/tue-rob-edwards-late-may-27/
LOCATION:Swing 46\, 349 W 46th Street\, New York\, NY\, 10036\, United States
CATEGORIES:Performances
ATTACH;FMTTYPE=image/jpeg:https://swing46.nyc/wp-content/uploads/2024/12/sorry-were-closed.jpg
END:VEVENT
END:VCALENDAR