BEGIN:VCALENDAR
VERSION:2.0
PRODID:-//Swing 46 - ECPv6.15.12//NONSGML v1.0//EN
CALSCALE:GREGORIAN
METHOD:PUBLISH
X-ORIGINAL-URL:https://swing46.nyc
X-WR-CALDESC:Events for Swing 46
REFRESH-INTERVAL;VALUE=DURATION:PT1H
X-Robots-Tag:noindex
X-PUBLISHED-TTL:PT1H
BEGIN:VTIMEZONE
TZID:America/New_York
BEGIN:DAYLIGHT
TZOFFSETFROM:-0500
TZOFFSETTO:-0400
TZNAME:EDT
DTSTART:20240310T070000
END:DAYLIGHT
BEGIN:STANDARD
TZOFFSETFROM:-0400
TZOFFSETTO:-0500
TZNAME:EST
DTSTART:20241103T060000
END:STANDARD
BEGIN:DAYLIGHT
TZOFFSETFROM:-0500
TZOFFSETTO:-0400
TZNAME:EDT
DTSTART:20250309T070000
END:DAYLIGHT
BEGIN:STANDARD
TZOFFSETFROM:-0400
TZOFFSETTO:-0500
TZNAME:EST
DTSTART:20251102T060000
END:STANDARD
BEGIN:DAYLIGHT
TZOFFSETFROM:-0500
TZOFFSETTO:-0400
TZNAME:EDT
DTSTART:20260308T070000
END:DAYLIGHT
BEGIN:STANDARD
TZOFFSETFROM:-0400
TZOFFSETTO:-0500
TZNAME:EST
DTSTART:20261101T060000
END:STANDARD
END:VTIMEZONE
BEGIN:VEVENT
DTSTART;TZID=America/New_York:20250513T173000
DTEND;TZID=America/New_York:20250513T203000
DTSTAMP:20260419T110855
CREATED:20250419T230427Z
LAST-MODIFIED:20250419T230733Z
UID:10002798-1747157400-1747168200@swing46.nyc
SUMMARY:Michael Hashim | TUE
DESCRIPTION:Early Set | Jazz Quartet\n5:30 – 8:30: Michael Hashim \nMichael Hashim has a jazz mastery of the Saxophone and drops in his vocals for those witty & swingable style numbers. You’ll love this band! \nThe effervescent but cultured saxophone sound of Michael Hashim owes clear allegiance to swing masters Johnny Hodges and Benny Carter\, but also to later players such as Charlie Parker and Sonny Criss.\nclassic-music.com
URL:https://swing46.nyc/event/tue-michael-hashim-early-may-13/
LOCATION:Swing 46\, 349 W 46th Street\, New York\, NY\, 10036\, United States
CATEGORIES:Performances
ATTACH;FMTTYPE=image/jpeg:https://swing46.nyc/wp-content/uploads/2021/08/hashim_sarah_hayes1280.jpg
END:VEVENT
BEGIN:VEVENT
DTSTART;TZID=America/New_York:20250513T210000
DTEND;TZID=America/New_York:20250514T000000
DTSTAMP:20260419T110855
CREATED:20250418T183757Z
LAST-MODIFIED:20250418T183901Z
UID:10002791-1747170000-1747180800@swing46.nyc
SUMMARY:Rob Edwards Big Band | TUE
DESCRIPTION:Late Set | Jazz Band\n9:00 – 12:00: Rob Edwards Big Band \nRob Edwards brings his powerhouse Big Band to Swing 46 and features marvelously talented special guest vocalists. Born in West Palm Beach\, FL\, Robert completed his schooling at the Juilliard school and soon after joined the Roy Hargrove Big Band\, Dizzy Gillespie All-Star Big Band and Jimmy Heath’s Big Band. John Lee\, Leader of the Dizzy Gillespie All-Star Band\, hails Robert as\, “A future giant of jazz trombone.” His first record is titled “Sound Business.”
URL:https://swing46.nyc/event/tue-rob-edwards-late-may-13/
LOCATION:Swing 46\, 349 W 46th Street\, New York\, NY\, 10036\, United States
CATEGORIES:Performances
ATTACH;FMTTYPE=image/jpeg:https://swing46.nyc/wp-content/uploads/2022/07/RobEdwards_Birdland_BigBAnd.jpg
END:VEVENT
END:VCALENDAR