BEGIN:VCALENDAR
VERSION:2.0
PRODID:-//Swing 46 - ECPv6.15.12//NONSGML v1.0//EN
CALSCALE:GREGORIAN
METHOD:PUBLISH
X-ORIGINAL-URL:https://swing46.nyc
X-WR-CALDESC:Events for Swing 46
REFRESH-INTERVAL;VALUE=DURATION:PT1H
X-Robots-Tag:noindex
X-PUBLISHED-TTL:PT1H
BEGIN:VTIMEZONE
TZID:America/New_York
BEGIN:DAYLIGHT
TZOFFSETFROM:-0500
TZOFFSETTO:-0400
TZNAME:EDT
DTSTART:20230312T070000
END:DAYLIGHT
BEGIN:STANDARD
TZOFFSETFROM:-0400
TZOFFSETTO:-0500
TZNAME:EST
DTSTART:20231105T060000
END:STANDARD
BEGIN:DAYLIGHT
TZOFFSETFROM:-0500
TZOFFSETTO:-0400
TZNAME:EDT
DTSTART:20240310T070000
END:DAYLIGHT
BEGIN:STANDARD
TZOFFSETFROM:-0400
TZOFFSETTO:-0500
TZNAME:EST
DTSTART:20241103T060000
END:STANDARD
BEGIN:DAYLIGHT
TZOFFSETFROM:-0500
TZOFFSETTO:-0400
TZNAME:EDT
DTSTART:20250309T070000
END:DAYLIGHT
BEGIN:STANDARD
TZOFFSETFROM:-0400
TZOFFSETTO:-0500
TZNAME:EST
DTSTART:20251102T060000
END:STANDARD
END:VTIMEZONE
BEGIN:VEVENT
DTSTART;TZID=America/New_York:20240323T173000
DTEND;TZID=America/New_York:20240323T203000
DTSTAMP:20260419T101532
CREATED:20240223T060209Z
LAST-MODIFIED:20240223T060209Z
UID:10001963-1711215000-1711225800@swing46.nyc
SUMMARY:SAT | Michelle Collier Swingtet
DESCRIPTION:Early Set | Jazz Quartet \n5:30 – 8:30: Michelle Collier Swingtet. Michelle Collier is the songstress of Swing 46\, captivating audiences from around the world with her powerful and melodic voice. Her shows keep everyone foot-tapping their way to the dance floor. So come join in and experience the magic of The Great American Songbook. \nMichelle Collier has worked as a professional singer\, dancer\, choreographer and performer for live theater\, orchestras and bands for the past 30 years. Performance venues range from jazz clubs and concert halls to regional theaters\, outdoor amphitheaters and football stadiums.  Michelle has performed at a variety of live performance venues in NYC\, in Times Square and around the world. She enjoys collaborating with other creative artists and is very grateful to work with many gifted musicians over the years in live performances on stage\, on the dance floor and in the recording studio.
URL:https://swing46.nyc/event/sat-michelle-collier-early-mar23/
LOCATION:Swing 46\, 349 W 46th Street\, New York\, NY\, 10036\, United States
CATEGORIES:Performances
ATTACH;FMTTYPE=image/jpeg:https://swing46.nyc/wp-content/uploads/2022/08/Michelle-Collier-with-SSOcropped.jpg
END:VEVENT
BEGIN:VEVENT
DTSTART;TZID=America/New_York:20240323T210000
DTEND;TZID=America/New_York:20240324T010000
DTSTAMP:20260419T101532
CREATED:20240223T060342Z
LAST-MODIFIED:20240223T060342Z
UID:10001964-1711227600-1711242000@swing46.nyc
SUMMARY:SAT | Matthew Piazzi & the Debonairs
DESCRIPTION:Early Set | Jazz Band\n9:00 – 1:00: MATTHEW PIAZZI and The DEBONAIRS are a 1950s pop group\, bringing you all the very best in vintage music\, style and American nostalgia. Lead vocalist Matthew Piazzi was a TOP 10 finalist on AMERICA’S GOT TALENT as a witty celebrity voice impressionist and comedian.
URL:https://swing46.nyc/event/sat-matthew-piazzi-debonairs-late-mar23/
LOCATION:Swing 46\, 349 W 46th Street\, New York\, NY\, 10036\, United States
CATEGORIES:Performances
ATTACH;FMTTYPE=image/jpeg:https://swing46.nyc/wp-content/uploads/2023/12/Matthew-Piazzi-The-Debonairs-2layer-SFX-IMG_6154.jpg
END:VEVENT
END:VCALENDAR