BEGIN:VCALENDAR
VERSION:2.0
PRODID:-//Swing 46 - ECPv6.15.12//NONSGML v1.0//EN
CALSCALE:GREGORIAN
METHOD:PUBLISH
X-ORIGINAL-URL:https://swing46.nyc
X-WR-CALDESC:Events for Swing 46
REFRESH-INTERVAL;VALUE=DURATION:PT1H
X-Robots-Tag:noindex
X-PUBLISHED-TTL:PT1H
BEGIN:VTIMEZONE
TZID:America/New_York
BEGIN:DAYLIGHT
TZOFFSETFROM:-0500
TZOFFSETTO:-0400
TZNAME:EDT
DTSTART:20220313T070000
END:DAYLIGHT
BEGIN:STANDARD
TZOFFSETFROM:-0400
TZOFFSETTO:-0500
TZNAME:EST
DTSTART:20221106T060000
END:STANDARD
BEGIN:DAYLIGHT
TZOFFSETFROM:-0500
TZOFFSETTO:-0400
TZNAME:EDT
DTSTART:20230312T070000
END:DAYLIGHT
BEGIN:STANDARD
TZOFFSETFROM:-0400
TZOFFSETTO:-0500
TZNAME:EST
DTSTART:20231105T060000
END:STANDARD
BEGIN:DAYLIGHT
TZOFFSETFROM:-0500
TZOFFSETTO:-0400
TZNAME:EDT
DTSTART:20240310T070000
END:DAYLIGHT
BEGIN:STANDARD
TZOFFSETFROM:-0400
TZOFFSETTO:-0500
TZNAME:EST
DTSTART:20241103T060000
END:STANDARD
BEGIN:DAYLIGHT
TZOFFSETFROM:-0500
TZOFFSETTO:-0400
TZNAME:EDT
DTSTART:20250309T070000
END:DAYLIGHT
BEGIN:STANDARD
TZOFFSETFROM:-0400
TZOFFSETTO:-0500
TZNAME:EST
DTSTART:20251102T060000
END:STANDARD
END:VTIMEZONE
BEGIN:VEVENT
DTSTART;TZID=America/New_York:20231231T200000
DTEND;TZID=America/New_York:20240101T030000
DTSTAMP:20260419T200627
CREATED:20231008T000124Z
LAST-MODIFIED:20231213T032018Z
UID:10001681-1704052800-1704078000@swing46.nyc
SUMMARY:New Year's Eve 2024
DESCRIPTION:Celebrate New Year’s Eve with us featuring The George Gee Swing Orchestra\, Dancing\, Dinner\, Drinks and fun party favors. Our VIP Tickets include Dinner & Open Bar and the most fun you can have this side of Broadway. The Safest and most secure way to purchase TICKETS is below (powered by EventBrite)\, If you prefer alternative methods\, click our LEARN MORE page.
URL:https://swing46.nyc/event/nye-2024/
LOCATION:Swing 46\, 349 W 46th Street\, New York\, NY\, 10036\, United States
CATEGORIES:Parties,Performances
ATTACH;FMTTYPE=image/jpeg:https://swing46.nyc/wp-content/uploads/2023/10/George-Gees-Swingin-Rockin-New-Years-Eve-Bash-Arrow-Buy.jpg
END:VEVENT
END:VCALENDAR