BEGIN:VCALENDAR
VERSION:2.0
PRODID:-//Swing 46 - ECPv6.15.12//NONSGML v1.0//EN
CALSCALE:GREGORIAN
METHOD:PUBLISH
X-WR-CALNAME:Swing 46
X-ORIGINAL-URL:https://swing46.nyc
X-WR-CALDESC:Events for Swing 46
REFRESH-INTERVAL;VALUE=DURATION:PT1H
X-Robots-Tag:noindex
X-PUBLISHED-TTL:PT1H
BEGIN:VTIMEZONE
TZID:America/New_York
BEGIN:DAYLIGHT
TZOFFSETFROM:-0500
TZOFFSETTO:-0400
TZNAME:EDT
DTSTART:20220313T070000
END:DAYLIGHT
BEGIN:STANDARD
TZOFFSETFROM:-0400
TZOFFSETTO:-0500
TZNAME:EST
DTSTART:20221106T060000
END:STANDARD
BEGIN:DAYLIGHT
TZOFFSETFROM:-0500
TZOFFSETTO:-0400
TZNAME:EDT
DTSTART:20230312T070000
END:DAYLIGHT
BEGIN:STANDARD
TZOFFSETFROM:-0400
TZOFFSETTO:-0500
TZNAME:EST
DTSTART:20231105T060000
END:STANDARD
BEGIN:DAYLIGHT
TZOFFSETFROM:-0500
TZOFFSETTO:-0400
TZNAME:EDT
DTSTART:20240310T070000
END:DAYLIGHT
BEGIN:STANDARD
TZOFFSETFROM:-0400
TZOFFSETTO:-0500
TZNAME:EST
DTSTART:20241103T060000
END:STANDARD
END:VTIMEZONE
BEGIN:VEVENT
DTSTART;TZID=America/New_York:20231201T173000
DTEND;TZID=America/New_York:20231201T203000
DTSTAMP:20260419T215324
CREATED:20231114T025523Z
LAST-MODIFIED:20231225T035645Z
UID:10001753-1701451800-1701462600@swing46.nyc
SUMMARY:FRI | Marty Elkins
DESCRIPTION:Early Set | Jazz Quartet \n5:30 – 8:30: Marty Elkins – Marty Elkins hails from Jersey City\, New Jersey. Marty moved to New York in the early eighties and began playing clubs like Jimmy Ryan’s and Eddie Condon’s\, singing with Max Kaminsky’s band\, Spanky Davis’ “Jimmy Ryan All Stars” at the Cat Club\, Cousin’s in Brooklyn with Tardo Hammer & Lee Hudson\, and even the Savoy Lounge in midtown Manhattan (with a young organ trio – Adam Scone\, Coleman Mellett and Craig Wuepper). Later on she joined the vocal group\, “The Sweethots” who performed with the Stan Rubin Band and the Cab Calloway Orchestra\, under the direction of Christopher Calloway Brooks….Today she sings at the renowned jazz spots Smalls\, Mezzrow and the 55 Bar…. \nNagel-Heyer records got her international attention\, with “Fuse Blues”\, the critically acclaimed debut album and “In Another Life” – a duo effort with Dave McKenna. \n“Marty Elkins runs her own voodoo down.  It will remind you of no one else out there.  Her voice is always doing those things a jazz singer will do.  Marty Elkins is a jazz singer…”\nStanley Crouch\, liner notes on Fuse Blues (Nagel-Heyer Records) \nMarty has now established her own record label\, Elktone – which is distributed by Jazzheads. Her most-recent titles are “Walkin’ By The River”\, “Fat Daddy” (which was on two “best of 2018” lists with Cadence Magazine and Syncopated Times)\, and her newest project “‘Tis Autumn”.\nfull bio at https://www.martyelkins.com/bio
URL:https://swing46.nyc/event/fri-marty-elkins-early/
LOCATION:Swing 46\, 349 W 46th Street\, New York\, NY\, 10036\, United States
CATEGORIES:Performances
ATTACH;FMTTYPE=image/jpeg:https://swing46.nyc/wp-content/uploads/2022/09/Marty-Stairs.jpg
END:VEVENT
BEGIN:VEVENT
DTSTART;TZID=America/New_York:20231201T210000
DTEND;TZID=America/New_York:20231202T010000
DTSTAMP:20260419T215324
CREATED:20231114T030809Z
LAST-MODIFIED:20231227T043253Z
UID:10001754-1701464400-1701478800@swing46.nyc
SUMMARY:FRI | George Gee Swing Combo
DESCRIPTION:Late Set | George Gee Swing Combo \n9:00 – 12:00: George Gee Swing Combo spearheaded the modern swing resurgence nearly four decades ago. Headlining regularly at Lincoln Center’s Midsummer Night Swing\, the swing big band was a favorite of famed Savoy swing dancer Frankie Manning having performed a long series of dance events in his honor in New York City\, Boston\, Chicago\, San Francisco and Tokyo! Lindy Hoppers around the country and world are big fans of the George Gee high-energy shows! Also catch them weekly at SWING46 Jazz & Supper in Times Square. \nThis night will feature George’s Combo sized band! \n 
URL:https://swing46.nyc/event/fri-george-gee-late-dec-1/
LOCATION:Swing 46\, 349 W 46th Street\, New York\, NY\, 10036\, United States
CATEGORIES:Performances
ATTACH;FMTTYPE=image/jpeg:https://swing46.nyc/wp-content/uploads/2021/03/GeorgeGeeWIDE-Anna-YatskevichWEB1280.jpg
END:VEVENT
END:VCALENDAR